BEGIN:VCALENDAR
VERSION:2.0
PRODID:-//ChamberMaster//Event Calendar 2.0//EN
METHOD:PUBLISH
X-PUBLISHED-TTL:P3D
REFRESH-INTERVAL:P3D
CALSCALE:GREGORIAN
BEGIN:VEVENT
DTSTART;VALUE=DATE:20100522
DTEND;VALUE=DATE:20100523
TRANSP:TRANSPARENT
X-MICROSOFT-CDO-ALLDAYEVENT:TRUE
SUMMARY:Junk in Your Trunk
DESCRIPTION:Large flea market at Market Square.  Registration required.  $5 per table\, no dealers.  For more information call 349-1099.
X-ALT-DESC;FMTTYPE=text/html:<div>Large flea market at Market Square.&nbsp\; Registration required.&nbsp\; $5 per table\, no dealers.&nbsp\; For more information call 349-1099.</div>
LOCATION:
UID:e.111.1377
SEQUENCE:3
DTSTAMP:20260424T113821Z
URL:https://business.reidsvillechamber.org/events/details/junk-in-your-trunk-05-22-2010-1377
END:VEVENT

END:VCALENDAR
