BEGIN:VCALENDAR
VERSION:2.0
PRODID:-//ChamberMaster//Event Calendar 2.0//EN
METHOD:PUBLISH
X-PUBLISHED-TTL:P3D
REFRESH-INTERVAL:P3D
CALSCALE:GREGORIAN
BEGIN:VEVENT
DTSTART:20141115T163000Z
DTEND:20141115T223000Z
X-MICROSOFT-CDO-ALLDAYEVENT:FALSE
SUMMARY:Kickoff Affordable Health Insurance Sign Up Event
DESCRIPTION:NC Health Care is hosting several enrollment events. Please join us for the opportunity for FREE assistance in enrolling for the 2015 Affordable Health Insurance Enrollment period. You may get FREE or greatly reduced health insurance! The enrollment only lasts from November 15th ?February 15th. We will have several In Person Assisters onsite to help guide you through the process.
X-ALT-DESC;FMTTYPE=text/html:NC Health Care is hosting several enrollment events. Please join us for the opportunity for FREE assistance in enrolling for the 2015 Affordable Health Insurance Enrollment period. You may get FREE or greatly reduced health insurance! The enrollment only lasts from November 15th ?February 15th. We will have several In Person Assisters onsite to help guide you through the process.
LOCATION:Sharon Missionary Baptist Church 3890 US Hwy 220 Stoneville\, NC 27048
UID:e.111.2934
SEQUENCE:3
DTSTAMP:20260422T162650Z
URL:https://business.reidsvillechamber.org/events/details/kickoff-affordable-health-insurance-sign-up-event-11-15-2014-2934
END:VEVENT

END:VCALENDAR
