BEGIN:VCALENDAR
VERSION:2.0
PRODID:-//ChamberMaster//Event Calendar 2.0//EN
METHOD:PUBLISH
X-PUBLISHED-TTL:P3D
REFRESH-INTERVAL:P3D
CALSCALE:GREGORIAN
BEGIN:VEVENT
DTSTART;VALUE=DATE:20091008
DTEND;VALUE=DATE:20091009
TRANSP:TRANSPARENT
X-MICROSOFT-CDO-ALLDAYEVENT:TRUE
SUMMARY:Kiwanis Club golf4Kids Golf Tournament
DESCRIPTION:Kiwanis Club of Reidsville Golf TournamentThursday\, October 8\, 2009noon registrationRaising funds for the kids in our community and across the world Support the Kiwanis and support these projects  CAMP CAREFRREBOY SCOUTSCIRCUS TRIPS FOR SPECIAL NEEDS CHILDRENSHOES FOR KIDSSPECIAL OLYMPICSTHERAPUTIC RIDINGKIWANIS YOUTH BASEBALL TEAMBOYS AND GIRLS HOMES OF NCROCKINGHAM PREGNANCYCARECENTERPROJECT LINUS OF ROCKINGHAMCOUNTYREIDSVILLE HIGH SCHOOL KEY CLUBROCKINGHAM COUNTYHIGH SCHOOL KEY CLUBNEWBRIDGE BANK FOOTBALL JAMBOREEHOBY SCHOLARSHIPTERRIFIC KIDS PROGRAMROCKINGHAM COUNCIL FOR BIBLE EDUCATIONWORLD CHANGERS OF ROCKINGHAMCOUNTYRANGER GARY HORTONFREE CLINIC OF ROCKINGHAMCOUNTYYMCASALVATION ARMYCHILDREN'S MIRACLE NETWORKHOSPICE OF ROCKINGHAMCOUNTYROCKINGHAM COUNTY THEATRE GUILDREIDSVILLE OUTREACHCENTERCHRISTMAS FOR NEEDY FAMILIES
X-ALT-DESC;FMTTYPE=text/html:<h3 style="text-align: center">Kiwanis Club of Reidsville Golf Tournament</h3><div style="text-align: center"><span style="font-size: medium">Thursday\, October 8\, 2009</span></div><div style="text-align: center"><span style="font-size: medium">noon registration</span></div><div style="text-align: center">Raising&nbsp\;funds&nbsp\;for the kids in our community and across the world</div><div style="text-align: center">&nbsp\;</div><div style="text-align: center"><span style="font-size: medium">Support the Kiwanis and support these projects</span></div><div style="text-align: center"><p class="MsoNormal" align="center" style="margin: 0in 0in 0pt\; text-align: center"><b><span style="font-size: 16pt"><o:p><font face="Times New Roman">&nbsp\;</font></o:p></span></b><span style="font-size: 14pt"><o:p><font face="Times New Roman">&nbsp\;</font></o:p></span></p><p class="MsoNormal" align="center" style="margin: 0in 0in 0pt\; text-align: center\; mso-outline-level: 1"><font face="Times New Roman"><st1:place w:st="on"><st1:placetype w:st="on"></st1:placetype><span style="font-size: small"><st1:placetype w:st="on"><span style="font-size: x-small"><b>CAMP</b></span></st1:placetype></span><span style="font-size: x-small"><span style=""><b> </b></span></span><b><span style="font-size: 14pt"><st1:placename w:st="on"><span style="font-size: x-small">CAREFRRE</span></st1:placename></span></b></st1:place><b><span style="font-size: 14pt"><o:p></o:p></span></b></font></p><p class="MsoNormal" align="center" style="margin: 0in 0in 0pt\; text-align: center"><span style="font-size: x-small"><b><font face="Times New Roman">BOY SCOUTS</font></b></span><b><span style="font-size: 14pt"><font face="Times New Roman"><o:p></o:p></font></span></b></p><p class="MsoNormal" align="center" style="margin: 0in 0in 0pt\; text-align: center"><span style="font-size: x-small"><b><font face="Times New Roman">CIRCUS TRIPS FOR SPECIAL NEEDS CHILDREN</font></b></span><b><span style="font-size: 14pt"><font face="Times New Roman"><o:p></o:p></font></span></b></p><p class="MsoNormal" align="center" style="margin: 0in 0in 0pt\; text-align: center"><span style="font-size: x-small"><b><font face="Times New Roman">SHOES FOR KIDS</font></b></span><b><span style="font-size: 14pt"><font face="Times New Roman"><o:p></o:p></font></span></b></p><p class="MsoNormal" align="center" style="margin: 0in 0in 0pt\; text-align: center"><span style="font-size: x-small"><b><font face="Times New Roman">SPECIAL OLYMPICS</font></b></span><b><span style="font-size: 14pt"><font face="Times New Roman"><o:p></o:p></font></span></b></p><p class="MsoNormal" align="center" style="margin: 0in 0in 0pt\; text-align: center"><span style="font-size: x-small"><b><font face="Times New Roman">THERAPUTIC RIDING</font></b></span><b><span style="font-size: 14pt"><font face="Times New Roman"><o:p></o:p></font></span></b></p><p class="MsoNormal" align="center" style="margin: 0in 0in 0pt\; text-align: center"><span style="font-size: x-small"><b><font face="Times New Roman">KIWANIS YOUTH BASEBALL TEAM</font></b></span><b><span style="font-size: 14pt"><font face="Times New Roman"><o:p></o:p></font></span></b></p><p class="MsoNormal" align="center" style="margin: 0in 0in 0pt\; text-align: center"><span style="font-size: x-small"><b><font face="Times New Roman">BOYS AND GIRLS HOMES OF NC</font></b></span><b><span style="font-size: 14pt"><font face="Times New Roman"><o:p></o:p></font></span></b></p><p class="MsoNormal" align="center" style="margin: 0in 0in 0pt\; text-align: center"><span style="font-size: small"><font face="Times New Roman"><st1:place w:st="on"><st1:placename w:st="on"><span style="font-size: x-small"><b>ROCKINGHAM</b></span></st1:placename><span style="font-size: x-small"><b> </b></span></st1:place></font></span><span style="font-size: x-small"><font face="Times New Roman"><st1:place w:st="on"></st1:place></font></span><font face="Times New Roman"><st1:place w:st="on"><b><span style="font-size: 14pt"><st1:placename w:st="on"><span style="font-size: x-small">PREGNANCY</span></st1:placename><st1:placename w:st="on"><span style="font-size: x-small">CARE</span></st1:placename><st1:placetype w:st="on"><span style="font-size: x-small">CENTER</span></st1:placetype></span></b></st1:place><b><span style="font-size: 14pt"><o:p></o:p></span></b></font></p><p class="MsoNormal" align="center" style="margin: 0in 0in 0pt\; text-align: center"><span style="font-size: x-small"><b><font face="Times New Roman">PROJECT LINUS OF </font></b></span><b><span style="font-size: 14pt"><font face="Times New Roman"><st1:place w:st="on"><st1:placename w:st="on"><span style="font-size: x-small">ROCKINGHAM</span></st1:placename><st1:placetype w:st="on"><span style="font-size: x-small">COUNTY</span></st1:placetype></st1:place><o:p></o:p></font></span></b></p><p class="MsoNormal" align="center" style="margin: 0in 0in 0pt\; text-align: center"><span style="font-size: small"><font face="Times New Roman"><st1:place w:st="on"><st1:placename w:st="on"><span style="font-size: x-small"><b>REIDSVILLE</b></span></st1:placename><span style="font-size: x-small"><b> </b></span></st1:place></font></span><span style="font-size: x-small"><font face="Times New Roman"><st1:place w:st="on"></st1:place></font></span><font face="Times New Roman"><st1:place w:st="on"><b><span style="font-size: 14pt"><st1:placetype w:st="on"><span style="font-size: x-small">HIGH SCHOOL</span></st1:placetype></span></b></st1:place><span style="font-size: x-small"><b> KEY CLUB</b></span><b><span style="font-size: 14pt"><o:p></o:p></span></b></font></p><p class="MsoNormal" align="center" style="margin: 0in 0in 0pt\; text-align: center"><span style="font-size: small"><font face="Times New Roman"><st1:place w:st="on"><st1:placename w:st="on"><span style="font-size: x-small"><b>ROCKINGHAM</b></span></st1:placename><span style="font-size: x-small"><b> </b></span></st1:place></font></span><span style="font-size: x-small"><font face="Times New Roman"><st1:place w:st="on"></st1:place></font></span><font face="Times New Roman"><st1:place w:st="on"><b><span style="font-size: 14pt"><st1:placetype w:st="on"><span style="font-size: x-small">COUNTY</span></st1:placetype><st1:placetype w:st="on"><span style="font-size: x-small">HIGH SCHOOL</span></st1:placetype></span></b></st1:place><span style="font-size: x-small"><b> KEY CLUB</b></span><b><span style="font-size: 14pt"><o:p></o:p></span></b></font></p><p class="MsoNormal" align="center" style="margin: 0in 0in 0pt\; text-align: center"><span style="font-size: x-small"><b><font face="Times New Roman">NEWBRIDGE BANK FOOTBALL JAMBOREE</font></b></span><b><span style="font-size: 14pt"><font face="Times New Roman"><o:p></o:p></font></span></b></p><p class="MsoNormal" align="center" style="margin: 0in 0in 0pt\; text-align: center"><span style="font-size: x-small"><b><font face="Times New Roman">HOBY SCHOLARSHIP</font></b></span><b><span style="font-size: 14pt"><font face="Times New Roman"><o:p></o:p></font></span></b></p><p class="MsoNormal" align="center" style="margin: 0in 0in 0pt\; text-align: center"><span style="font-size: x-small"><b><font face="Times New Roman">TERRIFIC KIDS PROGRAM</font></b></span><b><span style="font-size: 14pt"><font face="Times New Roman"><o:p></o:p></font></span></b></p><p class="MsoNormal" align="center" style="margin: 0in 0in 0pt\; text-align: center"><span style="font-size: x-small"><b><font face="Times New Roman">ROCKINGHAM COUNCIL FOR BIBLE EDUCATION</font></b></span><b><span style="font-size: 14pt"><font face="Times New Roman"><o:p></o:p></font></span></b></p><p class="MsoNormal" align="center" style="margin: 0in 0in 0pt\; text-align: center"><span style="font-size: x-small"><b><font face="Times New Roman">WORLD CHANGERS OF </font></b></span><b><span style="font-size: 14pt"><font face="Times New Roman"><st1:place w:st="on"><st1:placename w:st="on"><span style="font-size: x-small">ROCKINGHAM</span></st1:placename><st1:placetype w:st="on"><span style="font-size: x-small">COUNTY</span></st1:placetype></st1:place><o:p></o:p></font></span></b></p><p class="MsoNormal" align="center" style="margin: 0in 0in 0pt\; text-align: center"><span style="font-size: x-small"><b><font face="Times New Roman">RANGER GARY HORTON</font></b></span><b><span style="font-size: 14pt"><font face="Times New Roman"><o:p></o:p></font></span></b></p><p class="MsoNormal" align="center" style="margin: 0in 0in 0pt\; text-align: center"><span style="font-size: x-small"><b><font face="Times New Roman">FREE CLINIC OF </font></b></span><b><span style="font-size: 14pt"><font face="Times New Roman"><st1:place w:st="on"><st1:placename w:st="on"><span style="font-size: x-small">ROCKINGHAM</span></st1:placename><st1:placetype w:st="on"><span style="font-size: x-small">COUNTY</span></st1:placetype></st1:place><o:p></o:p></font></span></b></p><p class="MsoNormal" align="center" style="margin: 0in 0in 0pt\; text-align: center"><span style="font-size: x-small"><b><font face="Times New Roman">YMCA</font></b></span><b><span style="font-size: 14pt"><font face="Times New Roman"><o:p></o:p></font></span></b></p><p class="MsoNormal" align="center" style="margin: 0in 0in 0pt\; text-align: center"><span style="font-size: x-small"><b><font face="Times New Roman">SALVATION ARMY</font></b></span><b><span style="font-size: 14pt"><font face="Times New Roman"><o:p></o:p></font></span></b></p><p class="MsoNormal" align="center" style="margin: 0in 0in 0pt\; text-align: center"><span style="font-size: x-small"><b><font face="Times New Roman">CHILDREN&rsquo\;S MIRACLE NETWORK</font></b></span><b><span style="font-size: 14pt"><font face="Times New Roman"><o:p></o:p></font></span></b></p><p class="MsoNormal" align="center" style="margin: 0in 0in 0pt\; text-align: center"><span style="font-size: x-small"><b><font face="Times New Roman">HOSPICE OF </font></b></span><b><span style="font-size: 14pt"><font face="Times New Roman"><st1:place w:st="on"><st1:placename w:st="on"><span style="font-size: x-small">ROCKINGHAM</span></st1:placename><st1:placetype w:st="on"><span style="font-size: x-small">COUNTY</span></st1:placetype></st1:place><o:p></o:p></font></span></b></p><p class="MsoNormal" align="center" style="margin: 0in 0in 0pt\; text-align: center"><span style="font-size: x-small"><b><font face="Times New Roman">ROCKINGHAM COUNTY THEATRE GUILD</font></b></span><b><span style="font-size: 14pt"><font face="Times New Roman"><o:p></o:p></font></span></b></p><p class="MsoNormal" align="center" style="margin: 0in 0in 0pt\; text-align: center"><span style="font-size: small"><font face="Times New Roman"><st1:place w:st="on"><st1:placename w:st="on"><span style="font-size: x-small"><b>REIDSVILLE</b></span></st1:placename><span style="font-size: x-small"><b> </b></span></st1:place></font></span><span style="font-size: x-small"><font face="Times New Roman"><st1:place w:st="on"></st1:place></font></span><font face="Times New Roman"><st1:place w:st="on"><b><span style="font-size: 14pt"><st1:placename w:st="on"><span style="font-size: x-small">OUTREACH</span></st1:placename><st1:placetype w:st="on"><span style="font-size: x-small">CENTER</span></st1:placetype></span></b></st1:place><b><span style="font-size: 14pt"><o:p></o:p></span></b></font></p><p class="MsoNormal" align="center" style="margin: 0in 0in 0pt\; text-align: center"><span style="font-size: x-small"><b><span style=""><font face="Times New Roman">CHRISTMAS FOR NEEDY FAMILIES</font></span></b></span><b><span style="font-size: 14pt"><font face="Times New Roman"><o:p></o:p></font></span></b></p></div><div style="text-align: center">&nbsp\;</div>
LOCATION:Monroeton Golf CourseNoonOctober 8\, 2009
UID:e.111.1254
SEQUENCE:3
DTSTAMP:20260424T235039Z
URL:https://business.reidsvillechamber.org/events/details/kiwanis-club-golf4kids-golf-tournament-10-08-2009-1254
END:VEVENT

END:VCALENDAR
