BEGIN:VCALENDAR
VERSION:2.0
PRODID:-//ChamberMaster//Event Calendar 2.0//EN
METHOD:PUBLISH
X-PUBLISHED-TTL:P3D
REFRESH-INTERVAL:P3D
CALSCALE:GREGORIAN
BEGIN:VEVENT
DTSTART:20101007T160000Z
DTEND:20101007T220000Z
X-MICROSOFT-CDO-ALLDAYEVENT:FALSE
SUMMARY:Kiwanis Golf Tournament
DESCRIPTION:Reidsville Kiwanis Club 23rd Annual Golf Tournament\n\nThursday\, October 7\, 2010\n\nMonroeton Golf Course\n\nRegistration & Lunch - noon\n\nShotgun start - 1:00 p.m.\n\nSign up a team or individuals may sign up to play\n\nCall Bert Jones at 342-6171 for details\n\n$35 per player
X-ALT-DESC;FMTTYPE=text/html:<span style="font-family: comic sans ms"><span style="font-size: 14px"><strong>Reidsville Kiwanis Club 23rd Annual Golf Tournament<br />\nThursday\, October 7\, 2010<br />\nMonroeton Golf Course<br />\nRegistration &amp\; Lunch - noon<br />\nShotgun start - 1:00 p.m.<br />\nSign up a team or individuals may sign up to play<br />\nCall Bert Jones at 342-6171 for details<br />\n$35 per player</strong></span></span>
LOCATION:
UID:e.111.1521
SEQUENCE:3
DTSTAMP:20260424T035804Z
URL:https://business.reidsvillechamber.org/events/details/kiwanis-golf-tournament-10-07-2010-1521
END:VEVENT

END:VCALENDAR
