BEGIN:VCALENDAR
VERSION:2.0
PRODID:-//ChamberMaster//Event Calendar 2.0//EN
METHOD:PUBLISH
X-PUBLISHED-TTL:P3D
REFRESH-INTERVAL:P3D
CALSCALE:GREGORIAN
BEGIN:VEVENT
DTSTART:20111020T160000Z
DTEND:20111020T210000Z
X-MICROSOFT-CDO-ALLDAYEVENT:FALSE
SUMMARY:Kiwanis Golf Tournament
DESCRIPTION:CAPTAINS CHOICE. BRING A TEAM OR WE CAN PUT YOU ON ONE!!!\n\n\n\n KIWANIS IS DESIGNED TO HELP KIDS IN OUR COMMUNITY!!!  Proceeds from this event go toward this cause.
X-ALT-DESC;FMTTYPE=text/html:CAPTAINS CHOICE. BRING A TEAM OR WE CAN PUT YOU ON ONE!!!<br />\n<br />\n<span _fck_bookmark="1" style="display: none">&nbsp\;</span>KIWANIS IS DESIGNED TO HELP KIDS IN OUR COMMUNITY!!!&nbsp\;<span _fck_bookmark="1" style="display: none">&nbsp\;</span>Proceeds from this event go toward this cause.<br />\n
LOCATION:Monroeton Golf Course
UID:e.111.2058
SEQUENCE:3
DTSTAMP:20260423T085503Z
URL:https://business.reidsvillechamber.org/events/details/kiwanis-golf-tournament-10-20-2011-2058
END:VEVENT

END:VCALENDAR
