BEGIN:VCALENDAR
VERSION:2.0
PRODID:-//ChamberMaster//Event Calendar 2.0//EN
METHOD:PUBLISH
X-PUBLISHED-TTL:P3D
REFRESH-INTERVAL:P3D
CALSCALE:GREGORIAN
BEGIN:VEVENT
DTSTART:20090912T140000Z
DTEND:20090912T160000Z
X-MICROSOFT-CDO-ALLDAYEVENT:FALSE
SUMMARY:Kumihimo Jewelry Class
DESCRIPTION:Tricky to say but easy to do! Make your own corded necklaces using the ancient Japanese weaving method called Kumihimo. The Kumihimo disk will make the task easy and is yours to take home for future use. Be careful: Kumihimo is addictive! (Ages 12 - adult.)
X-ALT-DESC;FMTTYPE=text/html:Tricky to say but easy to do! Make your own corded necklaces using the ancient Japanese weaving method called Kumihimo. The Kumihimo disk will make the task easy and is yours to take home for future use. Be careful: Kumihimo is addictive! (Ages 12 - adult.)
LOCATION:Upstairs studio at EVERYDAY ART GALLERY 209 SW Market Street\, Downtown Reidsville
UID:e.111.808
SEQUENCE:3
DTSTAMP:20260425T005733Z
URL:https://business.reidsvillechamber.org/events/details/kumihimo-jewelry-class-09-12-2009-808
END:VEVENT

END:VCALENDAR
