BEGIN:VCALENDAR
VERSION:2.0
PRODID:-//ChamberMaster//Event Calendar 2.0//EN
METHOD:PUBLISH
X-PUBLISHED-TTL:P3D
REFRESH-INTERVAL:P3D
CALSCALE:GREGORIAN
BEGIN:VEVENT
DTSTART:20231010T160000Z
DTEND:20231010T170000Z
X-MICROSOFT-CDO-ALLDAYEVENT:FALSE
SUMMARY:La Boca Loca Ribbon Cutting
DESCRIPTION:Join us for a Ribbon Cutting for La Boca Loca on October 10th at 234 S Scales Street\, Reidsville NC. We will cut the ribbon for La Boca Loca at 12:00pm.
X-ALT-DESC;FMTTYPE=text/html:<font color="#4f4b4c" face="Work Sans\, sans-serif"><span style="font-size: 16px\;">Join us for a Ribbon Cutting for La Boca Loca on October 10th at 234 S Scales Street\, Reidsville NC. We will cut the ribbon for La Boca Loca at 12:00pm.&nbsp\;</span></font>
LOCATION:
UID:e.111.10455
SEQUENCE:3
DTSTAMP:20260421T084752Z
URL:https://business.reidsvillechamber.org/events/details/la-boca-loca-ribbon-cutting-10455
END:VEVENT

END:VCALENDAR
