BEGIN:VCALENDAR
VERSION:2.0
PRODID:-//ChamberMaster//Event Calendar 2.0//EN
METHOD:PUBLISH
X-PUBLISHED-TTL:P3D
REFRESH-INTERVAL:P3D
CALSCALE:GREGORIAN
BEGIN:VEVENT
DTSTART:20110510T153000Z
DTEND:20110510T163000Z
X-MICROSOFT-CDO-ALLDAYEVENT:FALSE
SUMMARY:La Boutique Ribbon Cutting
DESCRIPTION:Join us for a ribbon cutting to welcome one of Reidsville's newest businesses\, La Boutique It's All About You\n\nA light lunch will be served.\n\nDon't miss the opportunity to be one of the first to see this spectacular new business.
X-ALT-DESC;FMTTYPE=text/html:<br />\nJoin us for a ribbon cutting to welcome one of Reidsville&#39\;s newest businesses\, La Boutique It&#39\;s All About You<br />\nA light lunch will be served.<br />\nDon&#39\;t miss the opportunity to be one of the first to see this spectacular new business.<br />\n
LOCATION:209 S. Scales Street Located beside Nightmare on Scales Street
UID:e.111.1912
SEQUENCE:3
DTSTAMP:20260423T170255Z
URL:https://business.reidsvillechamber.org/events/details/la-boutique-ribbon-cutting-05-10-2011-1912
END:VEVENT

END:VCALENDAR
