BEGIN:VCALENDAR
VERSION:2.0
PRODID:-//ChamberMaster//Event Calendar 2.0//EN
METHOD:PUBLISH
X-PUBLISHED-TTL:P3D
REFRESH-INTERVAL:P3D
CALSCALE:GREGORIAN
BEGIN:VEVENT
DTSTART:20120328T171500Z
DTEND:20120328T180000Z
X-MICROSOFT-CDO-ALLDAYEVENT:FALSE
SUMMARY:Leader in Me Reception in Memory of Rich Brenner
DESCRIPTION:Join us for a reception at Lawsonville Elementary School in memory of sportscaster and community leader Rich Brenner. The students will be presenting a program and giving tours of the school. \n\n\n\nPlease RSVP to the Chamber at info@reidsvillechamber.org or 336.349.8481 by Friday March 23rd!!\n\n\n\nSpace is limited!!!
X-ALT-DESC;FMTTYPE=text/html:Join us for a reception at Lawsonville Elementary School in memory of sportscaster and community leader Rich Brenner. The students will be presenting a program and giving tours of the school.&nbsp\;<br />\n<br />\nPlease RSVP to the Chamber at info@reidsvillechamber.org or 336.349.8481 by Friday March 23rd!!<br />\n<br />\nSpace is limited!!!<br />\n<br />\n<br />\n
LOCATION:Lawsonville Ave Elementary School
UID:e.111.2178
SEQUENCE:3
DTSTAMP:20260421T130909Z
URL:https://business.reidsvillechamber.org/events/details/leader-in-me-reception-in-memory-of-rich-brenner-03-28-2012-2178
END:VEVENT

END:VCALENDAR
