BEGIN:VCALENDAR
VERSION:2.0
PRODID:-//ChamberMaster//Event Calendar 2.0//EN
METHOD:PUBLISH
X-PUBLISHED-TTL:P3D
REFRESH-INTERVAL:P3D
CALSCALE:GREGORIAN
BEGIN:VEVENT
DTSTART:20120301T230000Z
DTEND:20120302T040000Z
X-MICROSOFT-CDO-ALLDAYEVENT:FALSE
SUMMARY:LifeGuard Training by American Red Cross
DESCRIPTION:Must be 15 years old\n\n	Must be an experienced swimmer\n\n	Lee Mills Instructor\n\n	All proceeds will benefit the American Red Cross\n\n	Click Here for Flyer
X-ALT-DESC;FMTTYPE=text/html:<p>\n	Must be 15 years old<br />\n	Must be an experienced swimmer<br />\n	Lee Mills Instructor<br />\n	All proceeds will benefit the American Red Cross<br />\n	<a href="http://cloud.chambermaster.com/userfiles/UserFiles/chambers/111/File/Lifeguarding2.docx">Click Here for Flyer</a></p>\n
LOCATION:Rockingham County H. S. Swimming Pool
UID:e.111.2143
SEQUENCE:3
DTSTAMP:20260421T130630Z
URL:https://business.reidsvillechamber.org/events/details/lifeguard-training-by-american-red-cross-03-01-2012-2143
END:VEVENT

END:VCALENDAR
