BEGIN:VCALENDAR
VERSION:2.0
PRODID:-//ChamberMaster//Event Calendar 2.0//EN
METHOD:PUBLISH
X-PUBLISHED-TTL:P3D
REFRESH-INTERVAL:P3D
CALSCALE:GREGORIAN
BEGIN:VEVENT
DTSTART:20110212T150000Z
DTEND:20110212T150000Z
X-MICROSOFT-CDO-ALLDAYEVENT:FALSE
SUMMARY:Lisa Shively at Everyday Art Gallery\, Gifts & Studio
DESCRIPTION:Lisa Shively of Cooking with Lisa will sample her new line of soup mixes and sign her cookbooks at Everyday Art on Saturday\, February 12 from 10:00 am - 2:00 pm. Stop by to check out her new line of soup mixes and pick up a few of your favorites to take home.
X-ALT-DESC;FMTTYPE=text/html:Lisa Shively of Cooking with Lisa will sample her new line of soup mixes and sign her cookbooks at Everyday Art on Saturday\, February 12 from 10:00 am - 2:00 pm. Stop by to check out her new line of soup mixes and pick up a few of your favorites to take home.
LOCATION:Everyday Art Gallery\; 209 SW Market Street\, Downtown Reidsville
UID:e.111.1592
SEQUENCE:3
DTSTAMP:20260423T213107Z
URL:https://business.reidsvillechamber.org/events/details/lisa-shively-at-everyday-art-gallery-gifts-studio-02-12-2011-1592
END:VEVENT

END:VCALENDAR
