BEGIN:VCALENDAR
VERSION:2.0
PRODID:-//ChamberMaster//Event Calendar 2.0//EN
METHOD:PUBLISH
X-PUBLISHED-TTL:P3D
REFRESH-INTERVAL:P3D
CALSCALE:GREGORIAN
BEGIN:VEVENT
DTSTART:20120511T130000Z
DTEND:20120511T200000Z
X-MICROSOFT-CDO-ALLDAYEVENT:FALSE
SUMMARY:Living Healthy and Living Healthy with Diabetes Leader Trainings
DESCRIPTION:Become a certified workshop leader for the Stanford University\n\n	Chronic Disease Self-Management  Program and\n\n	Diabetes Self Management  Program!!!\n\n	\n\n	See Flyer!!
X-ALT-DESC;FMTTYPE=text/html:<p style="text-align: center">\n	<span style="font-size: 14px">Become a certified workshop leader for the Stanford University<br />\n	Chronic Disease Self-Management&nbsp\; Program and<br />\n	Diabetes Self Management&nbsp\; Program!!!<br />\n	<br />\n	<a href="http://cloud.chambermaster.com/userfiles/UserFiles/chambers/111/File/LeaderTrainingFlyerandRegistration.pdf">See Flyer!!</a></span></p>\n
LOCATION:
UID:e.111.2225
SEQUENCE:3
DTSTAMP:20260425T124847Z
URL:https://business.reidsvillechamber.org/events/details/living-healthy-and-living-healthy-with-diabetes-leader-trainings-05-11-2012-2225
END:VEVENT

END:VCALENDAR
