BEGIN:VCALENDAR
VERSION:2.0
PRODID:-//ChamberMaster//Event Calendar 2.0//EN
METHOD:PUBLISH
X-PUBLISHED-TTL:P3D
REFRESH-INTERVAL:P3D
CALSCALE:GREGORIAN
BEGIN:VEVENT
DTSTART:20111102T140000Z
DTEND:20111102T160000Z
X-MICROSOFT-CDO-ALLDAYEVENT:FALSE
SUMMARY:Look Good Feel Better Class
DESCRIPTION:Female cancer patients are invited to a FREE beauty makeover taught by volunteer cosmetologist\, Beth Hodges. Each female cancer patient receives a makeup kit worth $200. Classes are offered the first Wednesday of each month.  The September class will be Wednesday\, November 2\, from 10:00 a.m. to 12:00 p.m. To register\, please call 951-4584.
X-ALT-DESC;FMTTYPE=text/html:<span style="font-size: 12pt\; font-family: calibri\; mso-fareast-font-family: 'times new roman'\; mso-bidi-font-family: 'times new roman'\; mso-ansi-language: en-us\; mso-fareast-language: en-us\; mso-bidi-language: ar-sa"><font color="#000000" face="Times New Roman">Female cancer patients are invited to a FREE beauty makeover taught by volunteer cosmetologist\, Beth Hodges. Each female cancer patient receives a makeup kit worth $200. Classes are offered the first Wednesday of each month.<span style="mso-spacerun: yes">&nbsp\; </span>The September class will be <b style="mso-bidi-font-weight: normal">Wednesday\, November 2</b>\, from 10:00 a.m. to 12:00 p.m. To register\, please call 951-4584.</font></span>
LOCATION:Annie Penn Hospital
UID:e.111.2051
SEQUENCE:3
DTSTAMP:20260421T192505Z
URL:https://business.reidsvillechamber.org/events/details/look-good-feel-better-class-11-02-2011-2051
END:VEVENT

END:VCALENDAR
