BEGIN:VCALENDAR
VERSION:2.0
PRODID:-//ChamberMaster//Event Calendar 2.0//EN
METHOD:PUBLISH
X-PUBLISHED-TTL:P3D
REFRESH-INTERVAL:P3D
CALSCALE:GREGORIAN
BEGIN:VEVENT
DTSTART:20141002T160000Z
DTEND:20141002T170000Z
X-MICROSOFT-CDO-ALLDAYEVENT:FALSE
SUMMARY:Lunch & Learn - 1/4 Cent Sales Tax Referendum Information
DESCRIPTION:In 2007\, the N.C. General Assembly gave counties the ability to enact a local-option\, 1/4 cent sales tax. This new tax must be approved by voters in a referendum before it can be adopted by a county. To further the County's commitment to education and meet the critical needs of both Rockingham County Schools and Rockingham Community College\, the Board of County Commissioners has placed this proposal on the November 4\, 2014 ballot.\n\nThis lunchtime program will provide information on how the 1/4 cent sales tax works\, the educational needs it would help meet\, and what it would mean for your wallet.\n\n\n\nLunch will be provided. Please RSVP by Wednesday\, October 1\, 2014
X-ALT-DESC;FMTTYPE=text/html:<span style="font-family:arial\,sans-serif\;">In 2007\, the N.C. General Assembly gave counties the ability to enact a local-option\, 1/4 cent sales tax. This new tax must be approved by voters in a referendum before it can be adopted by a county. To further the County&rsquo\;s commitment to education and meet the critical needs of both Rockingham County Schools and Rockingham Community College\, the Board of County Commissioners has placed this proposal on the <strong>November 4\, 2014</strong> ballot.</span><br />\n<span style="font-family:arial\,sans-serif\;">This lunchtime program will provide information on how the 1/4 cent sales tax works\, the educational needs it would help meet\, and what it would mean for your wallet.<br />\n<br />\n<span style="font-size:14px\;"><span style="color:#FF0000\;"><strong>Lunch will be provided. Please RSVP by Wednesday\, October 1\, 2014&nbsp\;</strong></span></span></span>
LOCATION:Reidsville Chamber Office 112 Settle Street Reidsville\, NC 27320
UID:e.111.2930
SEQUENCE:3
DTSTAMP:20260422T180827Z
URL:https://business.reidsvillechamber.org/events/details/lunch-learn-1-4-cent-sales-tax-referendum-information-10-02-2014-2930
END:VEVENT

END:VCALENDAR
