BEGIN:VCALENDAR
VERSION:2.0
PRODID:-//ChamberMaster//Event Calendar 2.0//EN
METHOD:PUBLISH
X-PUBLISHED-TTL:P3D
REFRESH-INTERVAL:P3D
CALSCALE:GREGORIAN
BEGIN:VEVENT
DTSTART:20110414T160000Z
DTEND:20110414T170000Z
X-MICROSOFT-CDO-ALLDAYEVENT:FALSE
SUMMARY:Lunch & Learn Series-Reidsville Chamber of Commerce & InterCircle Marketing
DESCRIPTION:Reidsville Chamber Lunch & Learn series\n\n	Noon-1pm April 14\, 2011\n\n	Local/Mobile Search Optimization Seminar\n\n	In this seminar InterCircle Marketing will teach you how to:\n\n	\n		          Be on the front page of Google\, Yahoo and Bing for your market.\n	\n		          Be found by customers searching for you with their business.\n	\n		          Have more business than ever before.\n	\n		          Gain the advantage of reviews and citations.\n	\n		          Show up on iPhones\, Smart Phones and GPS Devices.\n	\n		          Edge out your competition by being one step ahead of them.\n	\n		         Use QR codes and what they mean to your business.\n\nDoor prize: Your business will be setup for Local/Mobile Search on Google\, Yahoo and Bing\n\nplus citations\, reviews\, QR codes and more...\n\n$300 value
X-ALT-DESC;FMTTYPE=text/html:<p class="MsoNormal" style="text-align: center\; margin: 0in 0in 12pt">\n	<b><font color="#000000" face="Times New Roman" size="3">Reidsville Chamber Lunch &amp\; Learn series<br />\n	Noon-1pm April 14\, 2011<br />\n	Local/Mobile Search Optimization Seminar</font></b></p>\n<p class="MsoNormal" style="margin: 0in 0in 0pt\; mso-margin-top-alt: auto\; mso-margin-bottom-alt: auto">\n	<b><span style="color: #002060"><font face="Times New Roman" size="3">In this seminar InterCircle Marketing will teach you how to:</font></span></b></p>\n<ul type="disc">\n	<li class="MsoNormal" style="margin: 0in 0in 0pt\; mso-margin-top-alt: auto\; mso-margin-bottom-alt: auto\; mso-list: l0 level1 lfo1\; tab-stops: list .5in">\n		<span style="font-size: 10px"><font color="#000000"><span style="font-family: symbol">&middot\;</span><font face="Times New Roman">&nbsp\;&nbsp\;&nbsp\;&nbsp\;&nbsp\;&nbsp\;&nbsp\;&nbsp\; </font></font><b><span style="font-family: 'georgia'\, 'serif'\; color: red">Be on the front page of Google\, Yahoo and Bing for your market.</span></b></span></li>\n	<li class="MsoNormal" style="margin: 0in 0in 0pt\; mso-margin-top-alt: auto\; mso-margin-bottom-alt: auto\; mso-list: l0 level1 lfo1\; tab-stops: list .5in">\n		<span style="font-size: 10px"><font color="#000000"><span style="font-family: symbol">&middot\;</span><font face="Times New Roman">&nbsp\;&nbsp\;&nbsp\;&nbsp\;&nbsp\;&nbsp\;&nbsp\;&nbsp\; </font></font><b><span style="font-family: 'georgia'\, 'serif'\; color: red">Be found by customers searching for you with their business.</span></b></span></li>\n	<li class="MsoNormal" style="margin: 0in 0in 0pt\; mso-margin-top-alt: auto\; mso-margin-bottom-alt: auto\; mso-list: l0 level1 lfo1\; tab-stops: list .5in">\n		<span style="font-size: 10px"><font color="#000000"><span style="font-family: symbol">&middot\;</span><font face="Times New Roman">&nbsp\;&nbsp\;&nbsp\;&nbsp\;&nbsp\;&nbsp\;&nbsp\;&nbsp\; </font></font><b><span style="font-family: 'georgia'\, 'serif'\; color: red">Have more business than ever before.</span></b></span></li>\n	<li class="MsoNormal" style="margin: 0in 0in 0pt\; mso-margin-top-alt: auto\; mso-margin-bottom-alt: auto\; mso-list: l0 level1 lfo1\; tab-stops: list .5in">\n		<span style="font-size: 10px"><font color="#000000"><span style="font-family: symbol">&middot\;</span><font face="Times New Roman">&nbsp\;&nbsp\;&nbsp\;&nbsp\;&nbsp\;&nbsp\;&nbsp\;&nbsp\; </font></font><b><span style="font-family: 'georgia'\, 'serif'\; color: red">Gain the advantage of reviews and citations.</span></b></span></li>\n	<li class="MsoNormal" style="margin: 0in 0in 0pt\; mso-margin-top-alt: auto\; mso-margin-bottom-alt: auto\; mso-list: l0 level1 lfo1\; tab-stops: list .5in">\n		<span style="font-size: 10px"><font color="#000000"><span style="font-family: symbol">&middot\;</span><font face="Times New Roman">&nbsp\;&nbsp\;&nbsp\;&nbsp\;&nbsp\;&nbsp\;&nbsp\;&nbsp\; </font></font><b><span style="font-family: 'georgia'\, 'serif'\; color: red">Show up on iPhones\, Smart Phones and GPS Devices.</span></b></span></li>\n	<li class="MsoNormal" style="margin: 0in 0in 0pt\; mso-margin-top-alt: auto\; mso-margin-bottom-alt: auto\; mso-list: l0 level1 lfo1\; tab-stops: list .5in">\n		<span style="font-size: 10px"><font color="#000000"><span style="font-family: symbol">&middot\;</span><font face="Times New Roman">&nbsp\;&nbsp\;&nbsp\;&nbsp\;&nbsp\;&nbsp\;&nbsp\;&nbsp\; </font></font><b><span style="font-family: 'georgia'\, 'serif'\; color: red">Edge out your competition by being one step ahead of them.</span></b></span></li>\n	<li class="MsoNormal" style="margin: 0in 0in 0pt\; mso-margin-top-alt: auto\; mso-margin-bottom-alt: auto\; mso-list: l0 level1 lfo1\; tab-stops: list .5in">\n		<span style="font-size: 10px"><font color="#000000"><span style="font-family: symbol">&middot\;</span><font face="Times New Roman">&nbsp\;&nbsp\;&nbsp\;&nbsp\;&nbsp\;&nbsp\;&nbsp\; </font></font><b><span style="font-family: 'georgia'\, 'serif'\; color: red">Use QR codes and what they mean to your business.</span></b></span></li>\n</ul>\n<span style="font-family: 'times new roman'\, 'serif'\; font-size: 12pt\; mso-fareast-font-family: calibri\; mso-fareast-theme-font: minor-latin\; mso-ansi-language: en-us\; mso-fareast-language: en-us\; mso-bidi-language: ar-sa"><font color="#000000">Door prize: Your business will be setup for Local/Mobile Search on Google\, Yahoo and Bing<br />\nplus citations\, reviews\, QR codes and more...<br />\n$300 value</font></span><br />\n<br clear="all" style="mso-special-character: line-break" />\n
LOCATION:Reidsville Chamber of Commerce 112 Settle Street Reidsville\, NC
UID:e.111.1887
SEQUENCE:3
DTSTAMP:20260423T182813Z
URL:https://business.reidsvillechamber.org/events/details/lunch-learn-series-reidsville-chamber-of-commerce-intercircle-marketing-04-14-2011-1887
END:VEVENT

END:VCALENDAR
