BEGIN:VCALENDAR
VERSION:2.0
PRODID:-//ChamberMaster//Event Calendar 2.0//EN
METHOD:PUBLISH
X-PUBLISHED-TTL:P3D
REFRESH-INTERVAL:P3D
CALSCALE:GREGORIAN
BEGIN:VEVENT
DTSTART:20100617T220000Z
DTEND:20100618T000000Z
X-MICROSOFT-CDO-ALLDAYEVENT:FALSE
SUMMARY:Make a Lemonade Pitcher
DESCRIPTION:You'll be ready to serve lemonade or the refreshing beverage of your choice all summer long in your custom-made serving pitcher. Easy to create using a cylinder form and a slab of clay! All supplies provided. This class is best for adults.
X-ALT-DESC;FMTTYPE=text/html:You'll be ready to serve lemonade or the refreshing beverage of your choice all summer long in your custom-made serving pitcher. Easy to create using a cylinder form and a slab of clay! All supplies provided. This class is best for adults.
LOCATION:Upstairs studio at Everyday Art Gallery 209 SW Market Street\, Downtown Reidsville
UID:e.111.1469
SEQUENCE:3
DTSTAMP:20260424T113708Z
URL:https://business.reidsvillechamber.org/events/details/make-a-lemonade-pitcher-06-17-2010-1469
END:VEVENT

END:VCALENDAR
