BEGIN:VCALENDAR
VERSION:2.0
PRODID:-//ChamberMaster//Event Calendar 2.0//EN
METHOD:PUBLISH
X-PUBLISHED-TTL:P3D
REFRESH-INTERVAL:P3D
CALSCALE:GREGORIAN
BEGIN:VEVENT
DTSTART;VALUE=DATE:20110916
DTEND;VALUE=DATE:20110917
TRANSP:TRANSPARENT
X-MICROSOFT-CDO-ALLDAYEVENT:TRUE
SUMMARY:Making Medicine Workshop
DESCRIPTION:Rockingham County Cooperative Extension and Rockingham County Community College\n\n	 \n\n	Making Medicine Workshop: Teas\, Tinctures and Salves\n\n	 \n\n	Friday September 16\, 2011\n\n	 \n\n	5 - 8 pm\n\n	 \n\n	Rockingham County Agricultural Center\n\n	525 Hwy 65\n\n	Reidsville\, NC 27326\n\n	 \n\n	Pre-registration required.  Space limited to 30 participants. Cost $25. Make checks payable to Rockingham County and mail or bring to Rockingham County Agricultural Center.\n\n	 \n\n	 \n\n	Come learn to create botanical medicine using plants we can grow in our own gardens.  This workshop is for the beginner wishing to start stocking their own herbal apothecary with safe\, effective\, natural medicine.  Gain hands-on experience and learn the fundamentals of making teas\, tinctures\, and salves.\n\n	 \n\n	Instructor Chip Hope from the Sustainable Agriculture and Horticulture programs at Western Piedmont Community College in Morganton\, NC as well as the Department Head of Engineering.\n\n	 \n\n	Contact Kathryn Holmes\, Horticulture Agent 336-342-8230 for more information or to register.\n\n	 \n\n	Participants will take home tincture\, salve\, and handouts!\n\n	 \n\n	 \n\n	 \n\n	 \n\n	North Carolina State University and North Carolina A&T State University commit themselves to positive action to secure equal opportunity regardless of race\, color\, creed\, national origin\, religion\, sex\, age\, veteran status\, or disability. In addition\, the two Universities welcome all persons without regard to sexual orientation.\n\n	For accommodations for persons with disabilities or limited English proficiency\, contact Brenda Sutton at 336-342-8230(phone)\, 336-342-8242 (FAX)\, brenda_sutton@ncsu.edu\, or in person\, no later than five business days before the event.
X-ALT-DESC;FMTTYPE=text/html:<p align="center" class="MsoNormal" style="text-align: center\; margin: 0in 0in 0pt 27pt">\n	<font color="#000000"><font face="Times New Roman"><st1:placename w:st="on"><span style="font-size: 20pt">Rockingham</span></st1:placename><span style="font-size: 20pt"> <st1:placetype w:st="on">County</st1:placetype> Cooperative Extension and <st1:place w:st="on"><st1:placename w:st="on">Rockingham</st1:placename> <st1:placetype w:st="on">County</st1:placetype> <st1:placetype w:st="on">Community College</st1:placetype></st1:place><o:p></o:p></span></font></font></p>\n<p class="MsoNormal" style="margin: 0in 0in 0pt">\n	<span style="font-size: 18pt"><o:p><font color="#000000" face="Times New Roman">&nbsp\;</font></o:p></span></p>\n<p class="MsoNormal" style="margin: 0in 0in 0pt">\n	<v:shapetype coordsize="21600\,21600" filled="f" id="_x0000_t75" o:preferrelative="t" o:spt="75" path="m@4@5l@4@11@9@11@9@5xe" stroked="f"><v:stroke joinstyle="miter"></v:stroke><v:formulas><v:f eqn="if lineDrawn pixelLineWidth 0"></v:f><v:f eqn="sum @0 1 0"></v:f><v:f eqn="sum 0 0 @1"></v:f><v:f eqn="prod @2 1 2"></v:f><v:f eqn="prod @3 21600 pixelWidth"></v:f><v:f eqn="prod @3 21600 pixelHeight"></v:f><v:f eqn="sum @0 0 1"></v:f><v:f eqn="prod @6 1 2"></v:f><v:f eqn="prod @7 21600 pixelWidth"></v:f><v:f eqn="sum @8 21600 0"></v:f><v:f eqn="prod @7 21600 pixelHeight"></v:f><v:f eqn="sum @10 21600 0"></v:f></v:formulas><v:path gradientshapeok="t" o:connecttype="rect" o:extrusionok="f"></v:path><o:lock aspectratio="t" v:ext="edit"></o:lock></v:shapetype><v:shape id="_x0000_s1026" style="z-index: 251657728\; position: absolute\; margin-top: 27.7pt\; width: 148.5pt\; height: 145.5pt\; margin-left: 351pt" type="#_x0000_t75"><font color="#000000"><font face="Times New Roman"><v:imagedata o:title="" src="file:///C:\\Users\\BETHSI~1\\AppData\\Local\\Temp\\msohtmlclip1\\01\\clip_image001.wmz"></v:imagedata><w:wrap type="square"></w:wrap></font></font></v:shape><span style="color: aqua\; font-size: 22pt"><font face="Times New Roman">Making Medicine Workshop: Teas\, Tinctures and Salves<o:p></o:p></font></span></p>\n<p class="MsoNormal" style="margin: 0in 0in 0pt">\n	<o:p><font color="#000000" size="3">&nbsp\;</font></o:p></p>\n<p class="MsoNormal" style="text-indent: 63pt\; margin: 0in -0.75in 0pt -63pt">\n	<span style="font-size: 18pt"><font face="Times New Roman"><font color="#000000">Friday September 16\, 2011<o:p></o:p></font></font></span></p>\n<p class="MsoNormal" style="margin: 0in 0in 0pt">\n	<o:p><font color="#000000" size="3">&nbsp\;</font></o:p></p>\n<p class="MsoNormal" style="margin: 0in 0in 0pt">\n	<span style="font-size: 18pt"><font face="Times New Roman"><font color="#000000">5 - 8 pm<o:p></o:p></font></font></span></p>\n<p class="MsoNormal" style="margin: 0in 0in 0pt">\n	<o:p><font color="#000000" size="3">&nbsp\;</font></o:p></p>\n<p class="MsoNormal" style="margin: 0in 0in 0pt">\n	<font face="Times New Roman"><font color="#000000"><st1:place w:st="on"><st1:placename w:st="on"><span style="font-size: 14pt">Rockingham</span></st1:placename><span style="font-size: 14pt"> <st1:placetype w:st="on">County</st1:placetype></span></st1:place><span style="font-size: 14pt"> Agricultural Center<o:p></o:p></span></font></font></p>\n<p class="MsoNormal" style="margin: 0in 0in 0pt">\n	<span style="font-size: 14pt"><font face="Times New Roman"><font color="#000000">525 Hwy 65<o:p></o:p></font></font></span></p>\n<p class="MsoNormal" style="margin: 0in 0in 0pt">\n	<font face="Times New Roman"><font color="#000000"><st1:place w:st="on"><st1:city w:st="on"><span style="font-size: 14pt">Reidsville</span></st1:city><span style="font-size: 14pt">\, <st1:state w:st="on">NC</st1:state> <st1:postalcode w:st="on">27326</st1:postalcode></span></st1:place><span style="font-size: 14pt"><o:p></o:p></span></font></font></p>\n<p class="MsoNormal" style="margin: 0in 0in 0pt">\n	<span style="font-size: 14pt"><o:p><font color="#000000" face="Times New Roman">&nbsp\;</font></o:p></span></p>\n<p class="MsoNormal" style="margin: 0in 0in 0pt">\n	<span style="font-size: 14pt"><font face="Times New Roman"><font color="#000000">Pre-registration required.<span style="mso-spacerun: yes">&nbsp\; </span>Space limited to 30 participants. Cost $25. Make checks payable to <st1:placename w:st="on">Rockingham</st1:placename> <st1:placetype w:st="on">County</st1:placetype> and mail or bring to <st1:place w:st="on"><st1:placename w:st="on">Rockingham</st1:placename> <st1:placetype w:st="on">County</st1:placetype> <st1:placename w:st="on">Agricultural</st1:placename> <st1:placetype w:st="on">Center</st1:placetype></st1:place>.<o:p></o:p></font></font></span></p>\n<p class="MsoNormal" style="margin: 0in 0in 0pt">\n	<o:p><font color="#000000" size="3">&nbsp\;</font></o:p></p>\n<p class="MsoNormal" style="margin: 0in 0in 0pt">\n	<o:p><font color="#000000" size="3">&nbsp\;</font></o:p></p>\n<p class="MsoNormal" style="text-indent: 0.5in\; margin: 0in 0in 0pt">\n	<span style="color: red\; font-size: 16pt"><font face="Times New Roman">Come learn to create botanical medicine using plants we can grow in our own gardens.<span style="mso-spacerun: yes">&nbsp\; </span>This workshop is for the beginner wishing to start stocking their own herbal apothecary with safe\, effective\, natural medicine.<span style="mso-spacerun: yes">&nbsp\; </span>Gain hands-on experience and learn the fundamentals of making teas\, tinctures\, and salves.<o:p></o:p></font></span></p>\n<p class="MsoNormal" style="margin: 0in 0in 0pt">\n	<span style="color: red\; font-size: 16pt"><o:p><font face="Times New Roman">&nbsp\;</font></o:p></span></p>\n<p class="MsoNormal" style="margin: 0in 0in 0pt">\n	<span style="color: red\; font-size: 16pt"><font face="Times New Roman">Instructor Chip Hope from the Sustainable Agriculture and Horticulture programs at <st1:placename w:st="on">Western</st1:placename> <st1:placename w:st="on">Piedmont</st1:placename> <st1:placetype w:st="on">Community College</st1:placetype> in <st1:place w:st="on"><st1:city w:st="on">Morganton</st1:city>\, <st1:state w:st="on">NC</st1:state></st1:place> as well as the Department Head of Engineering.<o:p></o:p></font></span></p>\n<p class="MsoNormal" style="margin: 0in 0in 0pt">\n	<span style="color: red\; font-size: 16pt"><o:p><font face="Times New Roman">&nbsp\;</font></o:p></span></p>\n<p class="MsoNormal" style="margin: 0in 0in 0pt">\n	<span style="color: red\; font-size: 16pt"><font face="Times New Roman">Contact Kathryn Holmes\, Horticulture Agent 336-342-8230 for more information or to register.<o:p></o:p></font></span></p>\n<p class="MsoNormal" style="margin: 0in 0in 0pt">\n	<span style="color: red"><o:p><font face="Times New Roman" size="3">&nbsp\;</font></o:p></span></p>\n<p class="MsoNormal" style="margin: 0in 0in 0pt">\n	<span style="color: blue\; font-size: 20pt"><font face="Times New Roman">Participants will take home tincture\, salve\, and handouts!<o:p></o:p></font></span></p>\n<p class="MsoNormal" style="margin: 0in 0in 0pt">\n	<span style="color: blue\; font-size: 20pt"><o:p><font face="Times New Roman">&nbsp\;</font></o:p></span></p>\n<p class="MsoNormal" style="margin: 0in 0in 0pt">\n	<span style="color: blue\; font-size: 20pt"><o:p><font face="Times New Roman">&nbsp\;</font></o:p></span></p>\n<p class="MsoNormal" style="margin: 0in 0.5in 0pt -63pt">\n	<b style="mso-bidi-font-weight: normal"><span style="color: black\; font-size: 7.5pt\; mso-bidi-font-family: arial"><o:p><font face="Times New Roman">&nbsp\;</font></o:p></span></b></p>\n<p class="MsoNormal" style="margin: 0in 0.5in 0pt -63pt">\n	<o:p><font color="#000000" face="Times New Roman" size="3">&nbsp\;</font></o:p></p>\n<p class="MsoNormal" style="margin: 0in 0in 0pt">\n	<font color="#000000"><st1:placename w:st="on"><span class="A0"><span style="font-family: 'times new roman'\, 'serif'\; font-size: 9pt">North Carolina</span></span></st1:placename><span class="A0"><span style="font-family: 'times new roman'\, 'serif'\; font-size: 9pt"> <st1:placetype w:st="on">State</st1:placetype> <st1:placetype w:st="on">University</st1:placetype> and <st1:place w:st="on"><st1:placename w:st="on">North Carolina</st1:placename> <st1:placename w:st="on">A&amp\;T</st1:placename> <st1:placetype w:st="on">State</st1:placetype> <st1:placetype w:st="on">University</st1:placetype></st1:place> commit themselves to positive action to secure equal opportunity regardless of race\, color\, creed\, national origin\, religion\, sex\, age\, veteran status\, or disability. In addition\, the two Universities welcome all persons without regard to sexual orientation.</span></span><span style="font-size: 9pt"><o:p></o:p></span></font></p>\n<p class="MsoNormal" style="margin: 0in -0.25in 0pt 0in">\n	<span style="font-size: 9pt"><font color="#000000">For accommodations for persons with disabilities or limited English proficiency\, contact Brenda Sutton at 336-342-8230(phone)\, 336-342-8242 (FAX)\, brenda_sutton@ncsu.edu\, or in person\, no later than five business days before the event.<o:p></o:p></font></span></p>\n
LOCATION:Rockingham Agricltural Center 525 Hwy 65 Reidsville NC 27326
UID:e.111.1973
SEQUENCE:3
DTSTAMP:20260423T102845Z
URL:https://business.reidsvillechamber.org/events/details/making-medicine-workshop-09-16-2011-1973
END:VEVENT

END:VCALENDAR
