BEGIN:VCALENDAR
VERSION:2.0
PRODID:-//ChamberMaster//Event Calendar 2.0//EN
METHOD:PUBLISH
X-PUBLISHED-TTL:P3D
REFRESH-INTERVAL:P3D
CALSCALE:GREGORIAN
BEGIN:VEVENT
DTSTART:20100504T220000Z
DTEND:20100504T233000Z
X-MICROSOFT-CDO-ALLDAYEVENT:FALSE
SUMMARY:Marketing on a Shoestring
DESCRIPTION:The Reidsville Downtown Corporationhas joined forces with Debi Joyce and the Small Business Center at Rockingham Community College to offer this FREE seminar! Limited seats are still available so RSVP quickly!Phone: 347-2307  or email: rdc@ci.reidsville.nc.usOne of the biggest myths in marketing is you must have a big budget for success.When you lack the cash\, all you need is a little creativity.This seminar has a few ideas that will keep your register ringing.  Seminar will be held this Tuesday\, May 4thCousel Chambers\, Reidsville City Hall230 W. Morehead Street RSVP quickly at 347-2307
X-ALT-DESC;FMTTYPE=text/html:<div style="text-align: center"><span style="font-size: medium">The Reidsville Downtown Corporation</span></div><div style="text-align: center"><span style="font-size: small">has joined forces with Debi Joyce and </span></div><div style="text-align: center"><span style="font-size: small">the Small Business Center at Rockingham Community College </span></div><div style="text-align: center">to offer this <span style="font-size: small">FREE seminar</span><span style="font-size: small">! </span></div><div style="text-align: center">Limited seats are still available&nbsp\;so RSVP quickly!</div><div style="text-align: center">Phone: 347-2307&nbsp\; or email: rdc@ci.reidsvil<wbr></wbr>le.nc.us</div><div style="text-align: center">One of the biggest myths in marketing is you must have a big budget for success.</div><div style="text-align: center">When you lack the cash\, all you need is a little creativity.</div><div style="text-align: center"><span style="font-size: small">This seminar has a few ideas that will keep your register ringing. </span></div><div style="text-align: center">&nbsp\;</div><div style="text-align: center"><span style="font-size: small">Seminar will be held this Tuesday\, May 4th</span></div><div style="text-align: center"><span style="font-size: small">Cousel Chambers\, Reidsville City Hall</span></div><div style="text-align: center"><span style="font-size: small">230 W. Morehead Street</span></div><div style="text-align: center">&nbsp\;</div><div style="text-align: center"><span style="font-size: small">RSVP quickly at 347-2307</span></div>
LOCATION:
UID:e.111.1385
SEQUENCE:3
DTSTAMP:20260424T114012Z
URL:https://business.reidsvillechamber.org/events/details/marketing-on-a-shoestring-05-04-2010-1385
END:VEVENT

END:VCALENDAR
