BEGIN:VCALENDAR
VERSION:2.0
PRODID:-//ChamberMaster//Event Calendar 2.0//EN
METHOD:PUBLISH
X-PUBLISHED-TTL:P3D
REFRESH-INTERVAL:P3D
CALSCALE:GREGORIAN
BEGIN:VEVENT
DTSTART:20120320T223000Z
DTEND:20120321T003000Z
X-MICROSOFT-CDO-ALLDAYEVENT:FALSE
SUMMARY:Marketing your Business by Networking in your Community
DESCRIPTION:Networking is essential to your business success\, especially if most of your potential clients live within your community.  Yet many people are afraid to network or simply don't know how.  Come learn the secrets to effective networking and start building relationships that lead to more business.  Bring your friends and your business cards!  It's fun and a lot easier than you think.
X-ALT-DESC;FMTTYPE=text/html:&nbsp\;<span style="font-size: 10pt"><span style="font-family: segoe ui\,sans-serif">Networking is essential to your business success\, especially if most of your potential clients live within your community.&nbsp\; Yet many people are afraid to network or simply don&#39\;t know how.&nbsp\; Come learn the secrets to effective networking and start building relationships that lead to more business.&nbsp\; Bring your friends and your business cards!&nbsp\; It&#39\;s fun and a lot easier than you think.</span></span><br />\n&nbsp\;<br />\n
LOCATION:BLLC-206 RCC
UID:e.111.2142
SEQUENCE:3
DTSTAMP:20260421T131052Z
URL:https://business.reidsvillechamber.org/events/details/marketing-your-business-by-networking-in-your-community-03-20-2012-2142
END:VEVENT

END:VCALENDAR
