BEGIN:VCALENDAR
VERSION:2.0
PRODID:-//ChamberMaster//Event Calendar 2.0//EN
METHOD:PUBLISH
X-PUBLISHED-TTL:P3D
REFRESH-INTERVAL:P3D
CALSCALE:GREGORIAN
BEGIN:VEVENT
DTSTART:20120116T130000Z
DTEND:20120116T150000Z
X-MICROSOFT-CDO-ALLDAYEVENT:FALSE
SUMMARY:Martin Luther King\, Jr. Unity Breakfast
DESCRIPTION:Reidsville Branch NAACP\n\n	The Reidsville Chamber of Commerce\n\n	Reidsville Human Relations Commission\n\n	Presents\n\n	The Martin Luther King\, Jr.\n\n	Unity Breakfast
X-ALT-DESC;FMTTYPE=text/html:<div align="center">\n	<strong><font size="4">Reidsville Branch NAACP</font></strong></div>\n<div align="center">\n	<strong><font size="4">The Reidsville Chamber of Commerce</font></strong></div>\n<div align="center">\n	<strong><font size="4">Reidsville Human Relations Commission</font></strong></div>\n<div align="center">\n	<font size="4">Presents</font></div>\n<div align="center">\n	<font size="4">The Martin Luther King\, Jr.</font></div>\n<div align="center">\n	<font size="4">Unity Breakfast</font></div>\n
LOCATION:807 Piedmont StreetReidsville\, NC
UID:e.111.2118
SEQUENCE:3
DTSTAMP:20260421T160942Z
URL:https://business.reidsvillechamber.org/events/details/martin-luther-king-jr-unity-breakfast-01-16-2012-2118
END:VEVENT

END:VCALENDAR
