BEGIN:VCALENDAR
VERSION:2.0
PRODID:-//ChamberMaster//Event Calendar 2.0//EN
METHOD:PUBLISH
X-PUBLISHED-TTL:P3D
REFRESH-INTERVAL:P3D
CALSCALE:GREGORIAN
BEGIN:VEVENT
DTSTART;VALUE=DATE:20091205
DTEND;VALUE=DATE:20091206
TRANSP:TRANSPARENT
X-MICROSOFT-CDO-ALLDAYEVENT:TRUE
SUMMARY:Mary Kay Cosmetics Boutique Open House
DESCRIPTION:Holiday Wishes and Holiday Kisses Mary Kay Boutique Open House.  If you do not have a Mary Kay consultant already\, please stop by to see me.  No malls\, No lines\, Free Gift Wrapping and 100% product satisfaction guarantee!\nFree travel size mascara for stopping by my boutique.\nEnter to win a Bahama Cruise for two!
X-ALT-DESC;FMTTYPE=text/html:Holiday Wishes and Holiday Kisses Mary Kay Boutique Open House.  If you do not have a Mary Kay consultant already\, please stop by to see me.  No malls\, No lines\, Free Gift Wrapping and 100% product satisfaction guarantee!\nFree travel size mascara for stopping by my boutique.\nEnter to win a Bahama Cruise for two!
LOCATION:513 S. Main St. Reidsville\, NC
UID:e.111.1274
SEQUENCE:3
DTSTAMP:20260424T202101Z
URL:https://business.reidsvillechamber.org/events/details/mary-kay-cosmetics-boutique-open-house-12-05-2009-1274
END:VEVENT

END:VCALENDAR
