BEGIN:VCALENDAR
VERSION:2.0
PRODID:-//ChamberMaster//Event Calendar 2.0//EN
METHOD:PUBLISH
X-PUBLISHED-TTL:P3D
REFRESH-INTERVAL:P3D
CALSCALE:GREGORIAN
BEGIN:VEVENT
DTSTART:20100717T220000Z
DTEND:20100718T020000Z
X-MICROSOFT-CDO-ALLDAYEVENT:FALSE
SUMMARY:Matt Dylan and Midnight Steel performing at Market Square
DESCRIPTION:Country music fills the square!  Other bands will also be performing.  For more information call 349-1099
X-ALT-DESC;FMTTYPE=text/html:<div>Country music fills the square!&nbsp\; Other bands will also be performing.&nbsp\; For more information call 349-1099</div>
LOCATION:
UID:e.111.1378
SEQUENCE:3
DTSTAMP:20260424T084215Z
URL:https://business.reidsvillechamber.org/events/details/matt-dylan-and-midnight-steel-performing-at-market-square-07-17-2010-1378
END:VEVENT

END:VCALENDAR
