BEGIN:VCALENDAR
VERSION:2.0
PRODID:-//ChamberMaster//Event Calendar 2.0//EN
METHOD:PUBLISH
X-PUBLISHED-TTL:P3D
REFRESH-INTERVAL:P3D
CALSCALE:GREGORIAN
BEGIN:VEVENT
DTSTART:20110311T150000Z
DTEND:20110311T170000Z
X-MICROSOFT-CDO-ALLDAYEVENT:FALSE
SUMMARY:Media Event at Rockingham County Farmers Market
DESCRIPTION:Hello Friends!\n\n	 \n\n	 \n\n	I need your help!  On Friday\, March 11\, at 10:00 a.m.\, at the Rockingham County Farmers Market\,  representatives from NCA&T University (including the Dean!) will come to the market to deliver tables\, chairs\, and other items that they are providing through a grant to the market.  These will be used for special events such as local foods dinners\, etc.  They are also providing funds for a very nice permanent sign at the market!\n\n	 \n\n	Can you please join us for this event and help us thank them for support of the Rockingham County Farmers Market through media coverage and enthusiasm?\n\n	 \n\n	I look forward to your reply!!!!\n\n	 \n\n	Brenda\n\n	 \n\n	Brenda Bryan Sutton\n\n	County Extension Director\n\n	Rockingham County Center\n\n	North Carolina Cooperative Extension\n\n	525 Hwy 65\, Suite 200\n\n	Reidsville  NC  27320\n\n	336.342.8230\n\n	336.342.8242 fax\n\n	336.613.6320 cell\n\n	http://rockingham.ces.ncsu.edu/\n\n	www.theproducelady.org
X-ALT-DESC;FMTTYPE=text/html:<div>\n	<br />\n	<span style="font-family: arial\,sans-serif\;"><span style="font-size: 10pt\;">Hello Friends!</span></span></div>\n<div>\n	&nbsp\;</div>\n<div>\n	&nbsp\;</div>\n<div>\n	<em><strong><span style="font-family: arial\,sans-serif\;"><span style="font-size: 10pt\;">I need your help!</span></span></strong></em><span style="font-family: arial\,sans-serif\;"><span style="font-size: 10pt\;">&nbsp\; On Friday\, March 11\, at 10:00 a.m.\, at the Rockingham County Farmers Market\,&nbsp\; representatives from NCA&amp\;T University (including the Dean!) will come to the market to deliver tables\, chairs\, and other items that they are providing through a grant to the market.&nbsp\; These will be used for special events such as local foods dinners\, etc.&nbsp\; They are also providing funds for a very nice permanent sign at the market!</span></span></div>\n<div>\n	&nbsp\;</div>\n<div>\n	<span style="font-family: arial\,sans-serif\;"><span style="font-size: 10pt\;">Can you please join us for this event and help us thank them for support of the Rockingham County Farmers Market through media coverage and enthusiasm?</span></span></div>\n<div>\n	&nbsp\;</div>\n<div>\n	<span style="font-family: arial\,sans-serif\;"><span style="font-size: 10pt\;">I look forward to your reply!!!!</span></span></div>\n<div>\n	&nbsp\;</div>\n<div>\n	<span style="font-family: arial\,sans-serif\;"><span style="font-size: 10pt\;">Brenda</span></span></div>\n<div>\n	&nbsp\;</div>\n<div>\n	<span style="font-family: arial\,sans-serif\;"><span style="font-size: 10pt\;">Brenda Bryan Sutton<br />\n	County Extension Director<br />\n	Rockingham County Center<br />\n	North Carolina Cooperative Extension<br />\n	525 Hwy 65\, Suite 200<br />\n	Reidsville&nbsp\; NC&nbsp\; 27320<br />\n	336.342.8230<br />\n	336.342.8242 fax<br />\n	336.613.6320 cell<br />\n	<a href="http://rockingham.ces.ncsu.edu/" title="blocked::http://rockingham.ces.ncsu.edu/">http://rockingham.ces.ncsu.edu/</a><br />\n	<a href="http://www.theproducelady.org/" title="blocked::http://www.theproducelady.org/">www.theproducelady.org</a></span></span><br />\n	<br />\n	&nbsp\;</div>\n
LOCATION:
UID:e.111.1602
SEQUENCE:3
DTSTAMP:20260423T200128Z
URL:https://business.reidsvillechamber.org/events/details/media-event-at-rockingham-county-farmers-market-03-11-2011-1602
END:VEVENT

END:VCALENDAR
