BEGIN:VCALENDAR
VERSION:2.0
PRODID:-//ChamberMaster//Event Calendar 2.0//EN
METHOD:PUBLISH
X-PUBLISHED-TTL:P3D
REFRESH-INTERVAL:P3D
CALSCALE:GREGORIAN
BEGIN:VEVENT
DTSTART:20100409T223000Z
DTEND:20100410T003000Z
X-MICROSOFT-CDO-ALLDAYEVENT:FALSE
SUMMARY:Microdermabrasion @ Midtown Salon & Spa
DESCRIPTION:Midtown Salon & Spa is now offering Microdermabrasion.  We will be hosting an event at our location to educate you on the key benefits of this treatment.\n\nIntroduction & Benefits of Microdermabrasion\n\nHands on demonstration to everyone who attends.\n\nFREE gift to everyone who attends.\n\nSpecial Introductory pricing to book your Microdermabrasion appointment.
X-ALT-DESC;FMTTYPE=text/html:Midtown Salon &amp\; Spa is now offering Microdermabrasion.  We will be hosting an event at our location to educate you on the key benefits of this treatment.\n<br>Introduction &amp\; Benefits of Microdermabrasion\n<br>Hands on demonstration to everyone who attends.\n<br>FREE gift to everyone who attends.\n<br>Special Introductory pricing to book your Microdermabrasion appointment.\n<br>
LOCATION:730 S. Scales St.\, Ste. G-1 Reidsville\, NC 27320
UID:e.111.1362
SEQUENCE:3
DTSTAMP:20260424T132334Z
URL:https://business.reidsvillechamber.org/events/details/microdermabrasion-midtown-salon-spa-04-09-2010-1362
END:VEVENT

END:VCALENDAR
