BEGIN:VCALENDAR
VERSION:2.0
PRODID:-//ChamberMaster//Event Calendar 2.0//EN
METHOD:PUBLISH
X-PUBLISHED-TTL:P3D
REFRESH-INTERVAL:P3D
CALSCALE:GREGORIAN
BEGIN:VEVENT
DTSTART:20150120T220000Z
DTEND:20150121T010000Z
X-MICROSOFT-CDO-ALLDAYEVENT:FALSE
SUMMARY:Midtown Salon & Spa Open House
DESCRIPTION:You Are Invited To \n\nMidtown Salon & Spa's\n\nOpen House!\n\n\n\nCatered Event\, Door Prizes\, Free Gifts For The First 25 Guests\, Sample Products\, Tour Of Salon & Spa\, Service Booking Discounts & More!
X-ALT-DESC;FMTTYPE=text/html:<div style="text-align: center\;">You Are Invited To&nbsp\;<br />\nMidtown Salon &amp\; Spa&#39\;s<br />\nOpen House!<br />\n<br />\nCatered Event\, Door Prizes\, Free Gifts For The First 25 Guests\, Sample Products\, Tour Of Salon &amp\; Spa\, Service Booking Discounts &amp\; More!&nbsp\;<br />\n<br />\n&nbsp\;</div>\n
LOCATION:Midtown Salon & Spa 1731 Freeway Drive\, Ste. F Reidsville\, NC 27320
UID:e.111.3025
SEQUENCE:3
DTSTAMP:20260422T125341Z
URL:https://business.reidsvillechamber.org/events/details/midtown-salon-spa-open-house-01-20-2015-3025
END:VEVENT

END:VCALENDAR
