BEGIN:VCALENDAR
VERSION:2.0
PRODID:-//ChamberMaster//Event Calendar 2.0//EN
METHOD:PUBLISH
X-PUBLISHED-TTL:P3D
REFRESH-INTERVAL:P3D
CALSCALE:GREGORIAN
BEGIN:VEVENT
DTSTART:20110923T130000Z
DTEND:20110923T180000Z
X-MICROSOFT-CDO-ALLDAYEVENT:FALSE
SUMMARY:Mobility Clinic and Wheelchair Repair Event
DESCRIPTION:Come see our Wheelchair Mechanic.  Some Simple preventative maintenance can keep you rolling on!\n\n\n\nWe will check:\n\n	\n		 Tires    \n	\n		Backrest\n	\n		Seat\n	\n		Nuts & Bolts\n	\n		Axels\n	\n		And More
X-ALT-DESC;FMTTYPE=text/html:Come see our Wheelchair Mechanic.&nbsp\; Some Simple preventative maintenance can keep you rolling on!<br />\n<br />\nWe will check:\n<ul>\n	<li>\n		&nbsp\;Tires&nbsp\;&nbsp\;&nbsp\;&nbsp\;</li>\n	<li>\n		Backrest</li>\n	<li>\n		Seat</li>\n	<li>\n		Nuts &amp\; Bolts</li>\n	<li>\n		Axels</li>\n	<li>\n		And More</li>\n</ul>\n
LOCATION:Carolina Apothecary- 726 S. Scales Street\, Reidsville
UID:e.111.1974
SEQUENCE:3
DTSTAMP:20260423T103915Z
URL:https://business.reidsvillechamber.org/events/details/mobility-clinic-and-wheelchair-repair-event-09-23-2011-1974
END:VEVENT

END:VCALENDAR
