BEGIN:VCALENDAR
VERSION:2.0
PRODID:-//ChamberMaster//Event Calendar 2.0//EN
METHOD:PUBLISH
X-PUBLISHED-TTL:P3D
REFRESH-INTERVAL:P3D
CALSCALE:GREGORIAN
BEGIN:VEVENT
DTSTART:20100624T213000Z
DTEND:20100625T000000Z
X-MICROSOFT-CDO-ALLDAYEVENT:FALSE
SUMMARY:Mosaic Flower Pot Class
DESCRIPTION:June 24\, Thur. 5:30-8:00 pm ($17)\n\nMOSAIC FLOWER  POT or KITCHEN CROCK w/Teresa Phillips\n\nWhat?s more fun than breaking plates and dishes and creating a lovely little flower pot? These 8+? inch pots also make wonderful kitchen utensil holders! You can grout them on your own ? or ?schedule a grouting session at the studio for $3.  Adult? age 12.  $7 deposit required.
X-ALT-DESC;FMTTYPE=text/html:June 24\, Thur. 5:30-8:00 pm ($17)\n<br>MOSAIC FLOWER  POT or KITCHEN CROCK w/Teresa Phillips\n<br>What?s more fun than breaking plates and dishes and creating a lovely little flower pot? These 8+? inch pots also make wonderful kitchen utensil holders! You can grout them on your own ? or ?schedule a grouting session at the studio for $3.  Adult? age 12.  $7 deposit required.
LOCATION:Upstairs studio at Everyday Art Gallery\, 209 SW Market Street\, Downtown Reidsville
UID:e.111.1471
SEQUENCE:3
DTSTAMP:20260424T113827Z
URL:https://business.reidsvillechamber.org/events/details/mosaic-flower-pot-class-06-24-2010-1471
END:VEVENT

END:VCALENDAR
