BEGIN:VCALENDAR
VERSION:2.0
PRODID:-//ChamberMaster//Event Calendar 2.0//EN
METHOD:PUBLISH
X-PUBLISHED-TTL:P3D
REFRESH-INTERVAL:P3D
CALSCALE:GREGORIAN
BEGIN:VEVENT
DTSTART:20100626T140000Z
DTEND:20100626T163000Z
X-MICROSOFT-CDO-ALLDAYEVENT:FALSE
SUMMARY:Mosaic Stepping Stone Class
DESCRIPTION:June 26\, Sat. 10:00 am ? 12:30 pm ($35)\n\nMOSAIC STEPPING STONE with Teresa Phillips\n\nAdd color to your walkway with a mosaic stepping stone. Use your own design\, one of our patterns or go abstract with beautiful colorful Venetian glass tiles and other tesserae. Learn to use tile nippers and files to design your own unique stone on a 12? square cement form. Grout your stone on your own or schedule a grouting session at the studio. For a nominal fee\, we?ll do the grouting for you!  Age 12-Adult.
X-ALT-DESC;FMTTYPE=text/html:June 26\, Sat. 10:00 am ? 12:30 pm ($35)\n<br>MOSAIC STEPPING STONE with Teresa Phillips\n<br>Add color to your walkway with a mosaic stepping stone. Use your own design\, one of our patterns or go abstract with beautiful colorful Venetian glass tiles and other tesserae. Learn to use tile nippers and files to design your own unique stone on a 12? square cement form. Grout your stone on your own or schedule a grouting session at the studio. For a nominal fee\, we?ll do the grouting for you!  Age 12-Adult.
LOCATION:Upstairs studio at Everyday Art Gallery\, 209 SW Market Street\, Downtown Reidsville
UID:e.111.1472
SEQUENCE:3
DTSTAMP:20260424T113805Z
URL:https://business.reidsvillechamber.org/events/details/mosaic-stepping-stone-class-06-26-2010-1472
END:VEVENT

END:VCALENDAR
