BEGIN:VCALENDAR
VERSION:2.0
PRODID:-//ChamberMaster//Event Calendar 2.0//EN
METHOD:PUBLISH
X-PUBLISHED-TTL:P3D
REFRESH-INTERVAL:P3D
CALSCALE:GREGORIAN
BEGIN:VEVENT
DTSTART:20100811T003000Z
DTEND:20100811T030000Z
X-MICROSOFT-CDO-ALLDAYEVENT:FALSE
SUMMARY:Movie Night at Market Square
DESCRIPTION:Movie Night on the Square! Tuesday\, August 10th8:00 pm or dusk Showing: The Blind SideAdmission: FREE For more information call 349-1099
X-ALT-DESC;FMTTYPE=text/html:<div style="text-align: center"><span style="font-size: medium">Movie Night on the Square!</span></div><div style="text-align: center">&nbsp\;</div><div style="text-align: center"><span style="font-size: medium">Tuesday\, August 10th</span></div><div style="text-align: center"><span style="font-size: medium">8:00 pm or dusk</span></div><div style="text-align: center">&nbsp\;</div><div style="text-align: center"><span style="font-size: medium">Showing: </span><em><span style="font-size: large"><span style="">The Blind Side</span></span></em></div><div style="text-align: center"><span style="font-size: medium">Admission:&nbsp\;</span><em><span style="font-size: medium">FREE</span></em></div><div style="text-align: center">&nbsp\;</div><div style="text-align: center"><span style="font-size: medium">For more information call 349-1099</span></div><div>&nbsp\;</div>
LOCATION:
UID:e.111.1371
SEQUENCE:3
DTSTAMP:20260424T065836Z
URL:https://business.reidsvillechamber.org/events/details/movie-night-at-market-square-08-10-2010-1371
END:VEVENT

END:VCALENDAR
