BEGIN:VCALENDAR
VERSION:2.0
PRODID:-//ChamberMaster//Event Calendar 2.0//EN
METHOD:PUBLISH
X-PUBLISHED-TTL:P3D
REFRESH-INTERVAL:P3D
CALSCALE:GREGORIAN
BEGIN:VEVENT
DTSTART:20110603T003000Z
DTEND:20110603T023000Z
X-MICROSOFT-CDO-ALLDAYEVENT:FALSE
SUMMARY:Movie on the Lawn
DESCRIPTION:Bring the whole family for Movie Night @ Market Square\n\n\n\nFeature Movie: How to Train Your Dragon
X-ALT-DESC;FMTTYPE=text/html:Bring the whole family for Movie Night @ Market Square<br />\n<br />\nFeature Movie: How to Train Your Dragon<br />\n
LOCATION:Market Square
UID:e.111.1930
SEQUENCE:3
DTSTAMP:20260423T152118Z
URL:https://business.reidsvillechamber.org/events/details/movie-on-the-lawn-06-02-2011-1930
END:VEVENT

END:VCALENDAR
