BEGIN:VCALENDAR
VERSION:2.0
PRODID:-//ChamberMaster//Event Calendar 2.0//EN
METHOD:PUBLISH
X-PUBLISHED-TTL:P3D
REFRESH-INTERVAL:P3D
CALSCALE:GREGORIAN
BEGIN:VEVENT
DTSTART:20120410T130000Z
DTEND:20120410T170000Z
X-MICROSOFT-CDO-ALLDAYEVENT:FALSE
SUMMARY:National College Job Fair
DESCRIPTION:Please join National College for\n\n	our job fair!!!!\n\n	\n\n	All are welcome!!!
X-ALT-DESC;FMTTYPE=text/html:<p style="text-align: center">\n	<span style="font-size: 16px"><span style="font-family: verdana"><strong>Please join National College for<br />\n	our job fair!!!!<br />\n	<br />\n	All are welcome!!!</strong></span></span></p>\n
LOCATION:336 Old Riverside Drive Danville\, VA 24541
UID:e.111.2195
SEQUENCE:3
DTSTAMP:20260421T113904Z
URL:https://business.reidsvillechamber.org/events/details/national-college-job-fair-04-10-2012-2195
END:VEVENT

END:VCALENDAR
