BEGIN:VCALENDAR
VERSION:2.0
PRODID:-//ChamberMaster//Event Calendar 2.0//EN
METHOD:PUBLISH
X-PUBLISHED-TTL:P3D
REFRESH-INTERVAL:P3D
CALSCALE:GREGORIAN
BEGIN:VEVENT
DTSTART;VALUE=DATE:20090829
DTEND;VALUE=DATE:20090830
TRANSP:TRANSPARENT
X-MICROSOFT-CDO-ALLDAYEVENT:TRUE
SUMMARY:National Makup artist coming to Reidsville Belks
DESCRIPTION:National Make-Up Artist\, Ricardo Costalesis coming to the Lancome counter at Belk ReidsvilleAugust 29\, 2009 This is your chance to meet America's number one most requested make-up artistSpace is limited\, so call 336-342-3321\, ext 268 or stop by the Lancome counter today to book your appointment.    An accomplished skincare and makeup expert\, Ricard's work has appeared in prestigious publications\, such as Allure\, Glamou\, Latina\, Vouge en Espanol\, Vanidades\, Haprer's Bazaar en Espanl and Marie clair.  he dazzled top designers like Badgley Mischka during New York Fashion Week\, contributed his unique gifts to the Latin Grammys in his hometown of Miami and represents lancome as a spokesperson.  "I take my inspiration from so many things:  I'm inspired by the streets of South Beach\, as much as the catwalks of New York\," says Ricardo.  "I can find  a trend at every turn and make it my own."
X-ALT-DESC;FMTTYPE=text/html:<div style="text-align: center"><span style="font-family: Comic Sans MS"><span style="font-size: medium">National Make-Up Artist\, Ricardo Costales</span></span></div><div style="text-align: center"><span style="font-family: Comic Sans MS"><span style="font-size: medium">is coming to the Lancome counter at Belk Reidsville</span></span></div><div style="text-align: center"><span style="font-family: Comic Sans MS"><span style="font-size: medium">August 29\, 2009</span></span></div><div style="text-align: center">&nbsp\;</div><div style="text-align: center"><span style="font-family: Comic Sans MS"><span style="font-size: medium">This is your chance to meet America's number one most requested make-up artist</span></span></div><div style="text-align: center"><span style="font-family: Comic Sans MS"><span style="font-size: medium">Space is limited\, so call 336-342-3321\, ext 268 or stop by the Lancome counter today to book your appointment.&nbsp\; </span></span></div><div style="text-align: center">&nbsp\;</div><div style="text-align: center">&nbsp\;</div><div>An accomplished skincare and makeup expert\, Ricard's work has appeared in prestigious publications\, such as Allure\, Glamou\, Latina\, Vouge en Espanol\, Vanidades\, Haprer's Bazaar en Espanl and Marie clair.&nbsp\; he dazzled top designers like Badgley Mischka during New York Fashion Week\, contributed his unique gifts to the Latin Grammys in his hometown of Miami and represents lancome as a spokesperson.&nbsp\; &quot\;I take my inspiration from so many things:&nbsp\; I'm inspired by the streets of South Beach\, as much as the catwalks of New York\,&quot\; says Ricardo.&nbsp\; &quot\;I can find&nbsp\; a trend at every turn and make it my own.&quot\;</div><div>&nbsp\;</div><div>&nbsp\;</div>
LOCATION:
UID:e.111.1206
SEQUENCE:3
DTSTAMP:20260425T024620Z
URL:https://business.reidsvillechamber.org/events/details/national-makup-artist-coming-to-reidsville-belks-08-29-2009-1206
END:VEVENT

END:VCALENDAR
