BEGIN:VCALENDAR
VERSION:2.0
PRODID:-//ChamberMaster//Event Calendar 2.0//EN
METHOD:PUBLISH
X-PUBLISHED-TTL:P3D
REFRESH-INTERVAL:P3D
CALSCALE:GREGORIAN
BEGIN:VEVENT
DTSTART:20110329T120000Z
DTEND:20110329T130000Z
X-MICROSOFT-CDO-ALLDAYEVENT:FALSE
SUMMARY:Newbridge Bank: "Made in the Triad" Business Breakfast
DESCRIPTION:SAVE THE DATE: TUESDAY\, MARCH 29\, 2011\n\n \n\n \n\nWho:NewBridge Bank\n\n \n\nWhat: "Made in the Triad" Business Breakfast\n\n \n\nWhen: 8 a.m. to 9 a.m.\, Tuesday\, March 29\, 2011\n\n \n\nWhere: Pennrose Park Country Club\, 1622 Country Club Road\, Reidsville\n\n \n\n \n\nNewBridgeBank\, in conjunction with WFMY News 2\, will present a "Made in the Triad" business breakfast as an educational event for Rockingham County business professionals. \n\n \n\nThe breakfast features a presentation by Dr. Harry Davis\, a noted economist and professor at Appalachian State University\, and Dean of the N.C. School of Banking. \n\n \n\nAdmission is free and open to the public\, but prior registration is required. Call Pat Smith at 336-394-0111 or email pat.smith@newbridgebank.com.\n\n \n\nHope to see you there!
X-ALT-DESC;FMTTYPE=text/html:<br />\n<span style="font-size: 14px"><span style="font-family: times new roman"><strong>SAVE THE DATE: TUESDAY\, MARCH 29\, 2011</strong><br />\n&nbsp\;<br />\n&nbsp\;<br />\n<strong>Who:NewBridge Bank</strong><br />\n&nbsp\;<br />\n<strong>What: &ldquo\;Made in the Triad&rdquo\; Business Breakfast</strong><br />\n&nbsp\;<br />\n<strong>When: 8 a.m. to 9 a.m.\, Tuesday\, March 29\, 2011</strong><br />\n&nbsp\;<br />\n<strong>Where: Pennrose Park Country Club<span style="color: #1f497d">\, </span>1622 Country Club Road\, Reidsville</strong><br />\n&nbsp\;<br />\n&nbsp\;<br />\n<strong>NewBridge</strong><strong>Bank\, in conjunction with WFMY News 2\, will present a &ldquo\;Made in the Triad&rdquo\; business breakfast as an educational event for Rockingham County business professionals. </strong><br />\n&nbsp\;<br />\n<strong>The breakfast features a presentation by Dr. Harry Davis\, a noted economist and professor at Appalachian State University\, and Dean of the N.C. School of Banking. </strong><br />\n&nbsp\;<br />\n<strong>Admission is free and open to the public\, but prior registration is required. Call Pat Smith at 336-394-0111 or email <a href="mailto:pat.smith@newbridgebank.com" title="blocked::mailto:pat.smith@newbridgebank.com">pat.smith@newbridgebank.com</a>.</strong><br />\n&nbsp\;<br />\n<strong><em>Hope to see you there!</em></strong><br />\n&nbsp\;</span></span><br />\n<br />\n
LOCATION:
UID:e.111.1892
SEQUENCE:3
DTSTAMP:20260423T195424Z
URL:https://business.reidsvillechamber.org/events/details/newbridge-bank-made-in-the-triad-business-breakfast-03-29-2011-1892
END:VEVENT

END:VCALENDAR
