BEGIN:VCALENDAR
VERSION:2.0
PRODID:-//ChamberMaster//Event Calendar 2.0//EN
METHOD:PUBLISH
X-PUBLISHED-TTL:P3D
REFRESH-INTERVAL:P3D
CALSCALE:GREGORIAN
BEGIN:VEVENT
DTSTART:20111030T230000Z
DTEND:20111031T035500Z
X-MICROSOFT-CDO-ALLDAYEVENT:FALSE
SUMMARY:Nightmare on Scales Street
DESCRIPTION:NOSS (Nightmare on Scales Street) Haunted House is going to be open for the 4th year in a row. It is the largest indoor haunted attraction in the  Carolina's.This haunt is inspired by the true story of maddness and murder. Located within the walls of the legendary Klenner Clinic.  You will travel through countless rooms of terror.  You will confront your worst nightmares and come face-to-face with torture souls and endless screams.  Definitely not for the weak of heart.  Certified haunted by paranormal experts "Timestoppers Paranormal".
X-ALT-DESC;FMTTYPE=text/html:<span style="background: lightyellow"><span style="font-size: 10.5pt"><span style="color: black"><span style="font-family: comic sans ms">NOSS (Nightmare on Scales Street) Haunted House is going to be open for the 4th year in a row. It is t</span></span></span></span><span style="background: lightyellow"><span style="font-size: 10.5pt"><span style="color: black"><span style="font-family: comic sans ms">he largest indoor haunted attraction in the&nbsp\; Carolina&#39\;s.</span></span></span></span><span style="background: lightyellow"><span style="font-size: 10.5pt"><span style="color: black"><span style="font-family: comic sans ms">This haunt is inspired by the true story of maddness and murder. Located within the walls of the legendary Klenner Clinic.&nbsp\; You will travel through countless rooms of terror.&nbsp\; You will confront your worst nightmares and come face-to-face with torture souls and endless screams.&nbsp\; Definitely not for the weak of heart.&nbsp\; Certified haunted by paranormal experts &quot\;Timestoppers Paranormal&quot\;.&nbsp\;</span></span></span></span><br />\n
LOCATION:Located at 207 S. Scales Street in Downtown Reidsville
UID:e.111.2020
SEQUENCE:3
DTSTAMP:20260423T084233Z
URL:https://business.reidsvillechamber.org/events/details/nightmare-on-scales-street-10-30-2011-2020
END:VEVENT

END:VCALENDAR
