BEGIN:VCALENDAR
VERSION:2.0
PRODID:-//ChamberMaster//Event Calendar 2.0//EN
METHOD:PUBLISH
X-PUBLISHED-TTL:P3D
REFRESH-INTERVAL:P3D
CALSCALE:GREGORIAN
BEGIN:VEVENT
DTSTART:20091017T230000Z
DTEND:20091018T030000Z
X-MICROSOFT-CDO-ALLDAYEVENT:FALSE
SUMMARY:Nightmare on Scales Street - Haunted house
DESCRIPTION:NIGHTMARE ON SCALES STREETAre you ready to GET SCARED\, FACE YOUR FEARS at one of        The largest indoor haunted attraction in North Carolina.This haunt house is Inspired by the true story of Fritz Klenner and the eight murders he committed. Located within the walls of the legendary Klenner Clinic. You will travel through countless rooms of terror. You will confront your worst nightmares and come face-to-face with torture souls and endless screams. Definitely not for the weak of heart.For More Info Call: 336-361-0011
X-ALT-DESC;FMTTYPE=text/html:<div><span style="background-color: #ffffff"><span><h1 align="center" style="margin-top: -14px"><em>NIGHTMARE ON SCALES STREET</em></h1><h1 align="center" style="margin-top: -14px"><span style="color: #990000"><span style="background-color: #ffffff"><span><font face="Cataneo BT" size="5">Are you ready to GET SCARED\, FACE YOUR FEARS at one of&nbsp\;</font></span></span></span></h1><h1 align="center" style="margin-top: -14px"><span style="color: #990000"><span style="background-color: #ffffff"><span><font face="Haettenschweiler" size="6">&nbsp\;&nbsp\;&nbsp\;&nbsp\;&nbsp\;&nbsp\; The largest indoor haunted attraction in North Carolina.</font></span></span></span></h1><h1 align="center" style="margin-left: 36px"><font face="Gloucester MT Extra Condensed" size="5">This haunt house is Inspired by the true story of Fritz Klenner and the eight murders he committed. Located within the walls of the legendary Klenner Clinic. You will travel through countless rooms of terror. You will confront your worst nightmares and come face-to-face with torture souls and endless screams. Definitely not for the weak of heart.</font></h1><p align="center" style="margin-left: 36px"><span style="color: #993300"><font face="Arial Black" size="4">For More Info Call: 336-361-0011</font></span></p></span></span></div>
LOCATION:Nightmare on Scales Street is located on the corner of Scales and Gilmer Street.
UID:e.111.1241
SEQUENCE:3
DTSTAMP:20260424T233139Z
URL:https://business.reidsvillechamber.org/events/details/nightmare-on-scales-street-haunted-house-10-17-2009-1241
END:VEVENT

END:VCALENDAR
