BEGIN:VCALENDAR
VERSION:2.0
PRODID:-//ChamberMaster//Event Calendar 2.0//EN
METHOD:PUBLISH
X-PUBLISHED-TTL:P3D
REFRESH-INTERVAL:P3D
CALSCALE:GREGORIAN
BEGIN:VEVENT
DTSTART:20091209T200000Z
DTEND:20091209T213000Z
X-MICROSOFT-CDO-ALLDAYEVENT:FALSE
SUMMARY:Non-Profit Council
DESCRIPTION:Are you the director of a non-profit organization?  Are you on the board of directors?  Do you have issues or concerns that are unique to a non-profit? Then you need to be a part of the Rockingham County Nonprofit Council An organizational meeting will be held Wednesday\, December 9th at 3:00 p.m.An organizational meeting for the RC Nonprofit Council will be held Wednesday\, December 9\, 20093:00 p.m.at513 S. Main StreetReidsville\, NC   All Executive Directors\, board chairman\, and staff of non-profits are invited to attend. Nonprofits are the life-blood of the community.  More & more citizens are relying on the help of non-profits at a time when our resources are shrinking. Pool your resources\, find a mentor\, share ideas\, learn from others\, get help with your issues and concerns Do you need help with marketing your organization\, volunteer recruitment\, business organization/accounting issues\, or fundraising ideas?  Spread the word!  Help is on the way! Please RSVP by December 8th via email info@reidsvillechamber.org or by calling 336-349-8481 ext. 1.
X-ALT-DESC;FMTTYPE=text/html:<p class="MsoNormal" align="center" style="margin: 0in 0in 0pt\; text-align: center"><b style="mso-bidi-font-weight: normal"><span style="font-family: Verdana\; mso-bidi-font-family: Arial"><font size="3">Are you the director of a non-profit organization?<span style="mso-spacerun: yes">&nbsp\; </span>Are you on the board of directors?<span style="mso-spacerun: yes">&nbsp\; </span>Do you have issues or concerns that are unique to a non-profit?<o:p></o:p></font></span></b></p><p class="MsoNormal" align="center" style="margin: 0in 0in 0pt\; text-align: center"><b style="mso-bidi-font-weight: normal"><span style="font-family: Verdana\; mso-bidi-font-family: Arial"><o:p><font size="3">&nbsp\;</font></o:p></span></b></p><p class="MsoNormal" align="center" style="margin: 0in 0in 0pt\; text-align: center"><font size="3"><span style="font-family: Verdana\; mso-bidi-font-family: Arial">Then you need to be a part of the </span><span style="font-size: 9pt\; font-family: Arial"><o:p></o:p></span></font></p><p class="MsoNormal" align="center" style="margin: 0in 0in 0pt\; text-align: center"><st1:place w:st="on"><st1:placename w:st="on"><strong><i><span style="font-size: 18pt\; font-family: Verdana\; mso-bidi-font-family: Arial">Rockingham</span></i></strong></st1:placename><strong><i><span style="font-size: 18pt\; font-family: Verdana\; mso-bidi-font-family: Arial"> <st1:placetype w:st="on">County</st1:placetype></span></i></strong></st1:place><strong><i><span style="font-size: 18pt\; font-family: Verdana\; mso-bidi-font-family: Arial"> Nonprofit Council</span></i></strong><span style="font-size: 9pt\; font-family: Arial"><o:p></o:p></span></p><p class="MsoNormal" align="center" style="margin: 0in 0in 0pt\; text-align: center"><span style="font-size: 9pt\; font-family: Arial">&nbsp\;<o:p></o:p></span></p><p class="MsoNormal" align="center" style="margin: 0in 0in 0pt\; text-align: center"><font size="3"><strong><span style="display: none\; font-family: Verdana\; mso-bidi-font-family: Arial\; mso-hide: all">An organizational meeting will be held Wednesday\, December 9th at 3:00 p.m.</span></strong><strong><span style="font-family: Verdana\; mso-bidi-font-family: Arial"><o:p></o:p></span></strong></font></p><p class="MsoNormal" align="center" style="margin: 0in 0in 0pt\; text-align: center"><strong><span style="font-family: Verdana\; mso-bidi-font-family: Arial"><font size="3">An organizational meeting for the RC Nonprofit Council will be held <o:p></o:p></font></span></strong></p><p class="MsoNormal" align="center" style="margin: 0in 0in 0pt\; text-align: center"><strong><span style="font-family: Verdana\; mso-bidi-font-family: Arial"><font size="3">Wednesday\, December 9\, 2009<o:p></o:p></font></span></strong></p><p class="MsoNormal" align="center" style="margin: 0in 0in 0pt\; text-align: center"><strong><span style="font-family: Verdana\; mso-bidi-font-family: Arial"><font size="3">3:00 p.m.<o:p></o:p></font></span></strong></p><p class="MsoNormal" align="center" style="margin: 0in 0in 0pt\; text-align: center"><strong><span style="font-size: 9pt\; font-family: Verdana\; mso-bidi-font-family: Arial">at<o:p></o:p></span></strong></p><p class="MsoNormal" align="center" style="margin: 0in 0in 0pt\; text-align: center"><font size="3"><st1:street w:st="on"><st1:address w:st="on"><strong><span style="font-family: Verdana\; mso-bidi-font-family: Arial">513 S. Main Street</span></strong></st1:address></st1:street><strong><span style="font-family: Verdana\; mso-bidi-font-family: Arial"><o:p></o:p></span></strong></font></p><p class="MsoNormal" align="center" style="margin: 0in 0in 0pt\; text-align: center"><font size="3"><st1:place w:st="on"><st1:city w:st="on"><strong><span style="font-family: Verdana\; mso-bidi-font-family: Arial">Reidsville</span></strong></st1:city><strong><span style="font-family: Verdana\; mso-bidi-font-family: Arial">\, <st1:state w:st="on">NC</st1:state></span></strong></st1:place><strong><span style="font-family: Verdana\; mso-bidi-font-family: Arial"><span style="mso-spacerun: yes">&nbsp\; </span><o:p></o:p></span></strong></font></p><p class="MsoNormal" align="center" style="margin: 0in 0in 0pt\; text-align: center"><strong><span style="font-family: Verdana\; mso-bidi-font-family: Arial"><o:p><font size="3">&nbsp\;</font></o:p></span></strong></p><p class="MsoNormal" align="center" style="margin: 0in 0in 0pt\; text-align: center"><strong><span style="font-family: Verdana\; mso-bidi-font-family: Arial"><font size="3">All Executive Directors\, board chairman\, and staff of non-profits are invited to attend.<o:p></o:p></font></span></strong></p><p class="MsoNormal" style="margin: 0in 0in 0pt"><strong><span style="font-family: Verdana\; mso-bidi-font-family: Arial"><o:p><font size="3">&nbsp\;</font></o:p></span></strong></p><p class="MsoNormal" style="margin: 0in 0in 0pt"><strong><span style="font-size: 10pt\; font-family: Verdana\; mso-bidi-font-family: Arial">Nonprofits are the life-blood of the community.<span style="mso-spacerun: yes">&nbsp\; </span>More &amp\; more citizens are relying on the help of non-profits at a time when our resources are shrinking.<o:p></o:p></span></strong></p><p class="MsoNormal" style="margin: 0in 0in 0pt"><strong><span style="font-size: 10pt\; font-family: Verdana\; mso-bidi-font-family: Arial"><o:p>&nbsp\;</o:p></span></strong></p><p class="MsoNormal" style="margin: 0in 0in 0pt"><strong><span style="font-size: 10pt\; font-family: Verdana\; mso-bidi-font-family: Arial">Pool your resources\, find a mentor\, share ideas\, learn from others\, get help with your issues and concerns<o:p></o:p></span></strong></p><p class="MsoNormal" style="margin: 0in 0in 0pt"><strong><span style="font-size: 10pt\; font-family: Verdana\; mso-bidi-font-family: Arial"><o:p>&nbsp\;</o:p></span></strong></p><p class="MsoNormal" style="margin: 0in 0in 0pt"><strong><span style="font-size: 10pt\; font-family: Verdana\; mso-bidi-font-family: Arial">Do you need help with marketing your organization\, volunteer recruitment\, business organization/accounting issues\, or fundraising ideas?<o:p></o:p></span></strong></p><p class="MsoNormal" style="margin: 0in 0in 0pt"><strong><span style="font-size: 10pt\; font-family: Verdana\; mso-bidi-font-family: Arial"><o:p>&nbsp\;</o:p></span></strong></p><p class="MsoNormal" style="margin: 0in 0in 0pt"><strong><span style="font-size: 10pt\; font-family: Verdana\; mso-bidi-font-family: Arial"><span style="mso-spacerun: yes">&nbsp\;</span>Spread the word!<span style="mso-spacerun: yes">&nbsp\; </span>Help is on the way!<o:p></o:p></span></strong></p><p class="MsoNormal" style="margin: 0in 0in 0pt"><strong><span style="font-size: 10pt\; font-family: Verdana\; mso-bidi-font-family: Arial"><o:p>&nbsp\;</o:p></span></strong></p><p class="MsoNormal" style="margin: 0in 0in 0pt"><strong><span style="font-size: 10pt\; font-family: Verdana\; mso-bidi-font-family: Arial">Please RSVP by December 8<sup>th</sup> via email <a href="mailto:info@reidsvillechamber.org"><span style="font-weight: normal">info@reidsvillechamber.org</span></a> or by <o:p></o:p></span></strong></p><p class="MsoNormal" style="margin: 0in 0in 0pt"><strong><span style="font-size: 10pt\; font-family: Verdana\; mso-bidi-font-family: Arial">calling 336-349-8481 ext. 1.</span></strong><span style="font-size: 10pt\; font-family: Arial"><o:p></o:p></span></p><p>&nbsp\;</p>
LOCATION:513 S. Main StreetReidsville\, NC336-349-8481 ext 1
UID:e.111.1275
SEQUENCE:3
DTSTAMP:20260424T214733Z
URL:https://business.reidsvillechamber.org/events/details/non-profit-council-12-09-2009-1275
END:VEVENT

END:VCALENDAR
