BEGIN:VCALENDAR
VERSION:2.0
PRODID:-//ChamberMaster//Event Calendar 2.0//EN
METHOD:PUBLISH
X-PUBLISHED-TTL:P3D
REFRESH-INTERVAL:P3D
CALSCALE:GREGORIAN
BEGIN:VEVENT
DTSTART:20100322T133000Z
DTEND:20100322T190000Z
X-MICROSOFT-CDO-ALLDAYEVENT:FALSE
SUMMARY:Nonprofit Education Session
DESCRIPTION:The Reidsville Area Foundation\, in partnership with the Rockingham County Chambers of Commerce\, is hosting a Nonprofit Education Session on Wednesday\, March 3\, 2010 in the Greenhouse at The Penn House in Reidsville\, NC.  Sally Migliorie\, Senior Associate for the N.C. Center for Nonprofits and Mary Anne Howard\, Sandhills Regional Associate\, for the North Carolina Community Foundation will share their expertise in the areas of Strategic Planning and Mission Focused Fund Raising.  Descriptions of each session are provided below.  The day will begin at 9:30AM and finish at 3:00PM.     First Session:     Charting a Strategic Course for Your Nonprofit's Future          Sally Migliore\, Senior Associate\,  N.C. Center for Nonprofits Now more than ever\, nonprofits are doing more with less.  Executive directors/CEOs and boards of directors need to make critical decisions about how to survive in this environment while thinking strategically about the long term.  In this session\, we'll discuss how strategic planning can guide your organization to stay mission-focused and accomplish your goals. Second Session:    Mission Focused Fund Raising Mary Anne Howard\, Sandhills Regional Associate\, North Carolina Community Foundation Your organization is all about changing the world for the better.  This session will help you determine how to use your organization's mission to develop a fundraising strategy aligned with your mission.  A lively and interactive session that explores how to tell the story of your organization and cultivate your ambassadors for fundraising success!A $10.00 fee per person is required and lunch will be provided.  In order to receive the most benefit for the organization\, we ask that a Board member attend with an organization's Executive Director.  Registration is required and seating is limited.Click on the link below to register.  If you do not have login information\, just click on the "not a member" link\, or call the Reidsville Chamber at 336-349-8481.  Melody WattProgram OfficerReidsville Area FoundationReidsville\, NC 336-634-1669
X-ALT-DESC;FMTTYPE=text/html:<div><p><font face="Book Antiqua" size="2"><span style="font-size: 11pt">The Reidsville Area Foundation\, in partnership with the Rockingham County Chambers of Commerce\, is hosting a Nonprofit Education Session on Wednesday\, March 3\, 2010 in the Greenhouse&nbsp\;at The Penn House in <st1:place w:st="on"><st1:city w:st="on">Reidsville</st1:city>\, <st1:state w:st="on">NC</st1:state></st1:place>.&nbsp\; Sally Migliorie\, Senior Associate for the <st1:place w:st="on"><st1:placename w:st="on">N.C.</st1:placename> <st1:placetype w:st="on">Center</st1:placetype></st1:place> for Nonprofits and Mary Anne Howard\, Sandhills Regional Associate\, for the North Carolina Community Foundation will share their expertise in the areas of Strategic Planning and Mission Focused Fund Raising.&nbsp\; Descriptions of each session are provided below.&nbsp\; The day will begin at 9:30AM and finish at 3:00PM.&nbsp\;&nbsp\;&nbsp\; <o:p></o:p></span></font></p><p class="MsoNormal"><font face="Book Antiqua" size="2"><span style="font-size: 11pt"><o:p><strong>&nbsp\;</strong></o:p></span></font><strong><font face="Book Antiqua" size="2"><span style="font-size: 11pt">First Session:&nbsp\;&nbsp\;&nbsp\;&nbsp\; Charting a Strategic Course for Your Nonprofit&rsquo\;s Future</span></font></strong><font face="Book Antiqua" size="2"><span style="font-size: 11pt"><o:p></o:p></span></font></p><p class="MsoNormal"><font face="Book Antiqua" size="2"><span style="font-size: 11pt"><o:p>&nbsp\;</o:p></span></font><font face="Book Antiqua" size="2"><span style="font-size: 11pt">&nbsp\;&nbsp\;&nbsp\;&nbsp\;&nbsp\;&nbsp\;&nbsp\;&nbsp\;&nbsp\;Sally Migliore\, Senior Associate\,&nbsp\; <st1:place w:st="on"><st1:placename w:st="on">N.C.</st1:placename> <st1:placetype w:st="on">Center</st1:placetype></st1:place> for Nonprofits<o:p></o:p></span></font></p><p class="MsoNormal"><font face="Book Antiqua" size="2"><span style="font-size: 11pt"><o:p>&nbsp\;</o:p></span></font><font face="Book Antiqua" size="2"><span style="font-size: 11pt">Now more than ever\, nonprofits are doing more with less.&nbsp\; Executive directors/CEOs and boards of directors need to make critical decisions about how to survive in this environment while thinking strategically about the long term.&nbsp\; In this session\, we&rsquo\;ll discuss how strategic planning can guide your organization to stay mission-focused and accomplish your goals.<o:p></o:p></span></font></p><p class="MsoNormal"><font face="Book Antiqua" size="2"><span style="font-size: 11pt"><o:p>&nbsp\;</o:p></span></font><strong><font face="Book Antiqua" size="2"><span style="font-size: 11pt">Second Session:&nbsp\;&nbsp\;&nbsp\;&nbsp\;</span></font></strong><font face="Book Antiqua" size="2"><span style="font-size: 11pt"><st1:city w:st="on"><st1:place w:st="on"><strong>Mission</strong></st1:place></st1:city><strong> Focused Fund Raising</strong><o:p></o:p></span></font></p><p class="MsoNormal"><font face="Book Antiqua" size="2"><span style="font-size: 11pt"><o:p><strong>&nbsp\;</strong></o:p></span></font><font face="Book Antiqua" size="2"><span style="font-size: 11pt">Mary Anne Howard\, Sandhills Regional Associate\, <st1:state w:st="on"><st1:place w:st="on">North Carolina</st1:place></st1:state> Community Foundation<o:p></o:p></span></font></p><p class="MsoNormal"><font face="Book Antiqua" size="2"><span style="font-size: 11pt"><o:p>&nbsp\;</o:p></span></font><font face="Book Antiqua" size="2"><span style="font-size: 11pt">Your organization is all about changing the world for the better.&nbsp\; This session will help you determine how to use your organization&rsquo\;s mission to develop a fundraising strategy aligned with your mission.&nbsp\; A lively and interactive session that explores how to tell the story of your organization and cultivate your ambassadors for fundraising success!<o:p></o:p></span></font></p><p class="MsoNormal"><strong><span style="font-size: 11pt">A $10.00 fee per person is required and lunch will be provided.&nbsp\; In order to receive the most benefit for the organization\, we ask that a Board member attend with an organization&rsquo\;s Executive Director.&nbsp\; Registration is required and seating is limited.</span></strong></p><p class="MsoNormal"><strong><span style="font-size: 11pt">Click on the link below to register.&nbsp\; If you do not have login information\, just click on the &quot\;not a member&quot\; link\, or call the Reidsville Chamber at 336-349-8481.&nbsp\; </span></strong></p><div><p class="MsoAutoSig"><font face="Lucida Calligraphy" color="#333399" size="3"><span style="font-size: 12pt\; color: #333399\; font-family: &rsquo\;Lucida Calligraphy&rsquo\;">Melody Watt</span></font></p><p class="MsoAutoSig"><font face="Lucida Sans" color="#333399" size="2"><span style="font-size: 10pt\; color: #333399\; font-family: &rsquo\;Lucida Sans&rsquo\;">Program Officer</span></font><font face="Lucida Calligraphy" color="#333399"><span style="color: #333399\; font-family: &rsquo\;Lucida Calligraphy&rsquo\;"><o:p></o:p></span></font></p><p class="MsoAutoSig"><font face="Lucida Sans" color="#333399" size="2"><span style="font-size: 10pt\; color: #333399\; font-family: &rsquo\;Lucida Sans&rsquo\;">Reidsville Area Foundation</span></font><font face="Lucida Calligraphy" color="#333399"><span style="color: #333399\; font-family: &rsquo\;Lucida Calligraphy&rsquo\;"><o:p></o:p></span></font></p><p class="MsoAutoSig"><st1:place w:st="on"><st1:city w:st="on"><font face="Lucida Sans" color="#333399" size="2"><span style="font-size: 10pt\; color: #333399\; font-family: &rsquo\;Lucida Sans&rsquo\;">Reidsville</span></font></st1:city><font face="Lucida Sans" color="#333399" size="2"><span style="font-size: 10pt\; color: #333399\; font-family: &rsquo\;Lucida Sans&rsquo\;">\, <st1:state w:st="on">NC</st1:state></span></font></st1:place><font face="Lucida Sans" color="#333399" size="2"><span style="font-size: 10pt\; color: #333399\; font-family: &rsquo\;Lucida Sans&rsquo\;"> </span></font><font face="Lucida Calligraphy" color="#333399"><span style="color: #333399\; font-family: &rsquo\;Lucida Calligraphy&rsquo\;"><o:p></o:p></span></font></p><p class="MsoAutoSig"><font face="Lucida Sans" color="#333399" size="2"><span style="font-size: 10pt\; color: #333399\; font-family: &rsquo\;Lucida Sans&rsquo\;">336-634-1669</span></font><font face="Lucida Calligraphy"><span style="font-family: &rsquo\;Lucida Calligraphy&rsquo\;"><o:p></o:p></span></font></p></div></div>
LOCATION:The Penn House324 Maple Ave (Parking in back on Irvin Street)Reidsville\, NC
UID:e.111.1317
SEQUENCE:3
DTSTAMP:20260424T151501Z
URL:https://business.reidsvillechamber.org/events/details/nonprofit-education-session-03-22-2010-1317
END:VEVENT

END:VCALENDAR
