BEGIN:VCALENDAR
VERSION:2.0
PRODID:-//ChamberMaster//Event Calendar 2.0//EN
METHOD:PUBLISH
X-PUBLISHED-TTL:P3D
REFRESH-INTERVAL:P3D
CALSCALE:GREGORIAN
BEGIN:VEVENT
DTSTART:20100315T150000Z
DTEND:20100315T170000Z
X-MICROSOFT-CDO-ALLDAYEVENT:FALSE
SUMMARY:North Carolina Hospitality Training -3rd session
DESCRIPTION:North Carolina Hospitality  Especially forRockingham CountyWedding and Special Events Professionals Providing quality service to wedding and special event customers\, visitors and guests is more than                                                                just being polite!                                                                              Quality Service is about:Professionalism                        Cultural SensitivityProblem SolvingCommunicationWedding and Special Event Specific IssuesBusiness EtiquettKnowing About Your CommunityWe invite you to join us for a three-part series of training that will enhance your business and help us all promote Rockingham County's hospitality! January 25\, 2010-Customer Service for the 21st CenturyFebruary 15\,\, 2010- Dealing with Wedding and Special Event IssuesMarch 15\, 2010- Know Your Community: Sharing Resources and Partnering
X-ALT-DESC;FMTTYPE=text/html:<div style="text-align: center">North Carolina Hospitality</div><div style="text-align: center"><span style="font-family: Comic Sans MS"><span style="font-size: smaller">&nbsp\; Especially for</span></span></div><div style="text-align: center"><span style="font-family: Comic Sans MS"><span style="font-size: smaller"><span style="font-family: Verdana"><span style="font-size: larger">Rockingham County</span></span></span></span></div><div style="text-align: center">Wedding and Special Events Professionals</div><div>&nbsp\;</div><div>Providing quality service to wedding and special event customers\, visitors and guests is more than</div><div>&nbsp\;&nbsp\;&nbsp\;&nbsp\;&nbsp\;&nbsp\;&nbsp\;&nbsp\;&nbsp\;&nbsp\;&nbsp\;&nbsp\;&nbsp\;&nbsp\;&nbsp\;&nbsp\;&nbsp\;&nbsp\;&nbsp\;&nbsp\;&nbsp\;&nbsp\;&nbsp\;&nbsp\;&nbsp\;&nbsp\;&nbsp\;&nbsp\;&nbsp\;&nbsp\;&nbsp\;&nbsp\;&nbsp\;&nbsp\;&nbsp\;&nbsp\;&nbsp\;&nbsp\;&nbsp\;&nbsp\;&nbsp\;&nbsp\;&nbsp\;&nbsp\;&nbsp\;&nbsp\;&nbsp\;&nbsp\;&nbsp\;&nbsp\;&nbsp\;&nbsp\;&nbsp\;&nbsp\;&nbsp\;&nbsp\;&nbsp\;&nbsp\;&nbsp\;&nbsp\;&nbsp\;&nbsp\;&nbsp\; just being polite!</div><div>&nbsp\;&nbsp\;&nbsp\;&nbsp\;&nbsp\;&nbsp\;&nbsp\;&nbsp\;&nbsp\;&nbsp\;&nbsp\;&nbsp\;&nbsp\;&nbsp\;&nbsp\;&nbsp\;&nbsp\;&nbsp\;</div><div>&nbsp\;&nbsp\;&nbsp\;&nbsp\;&nbsp\;&nbsp\;&nbsp\;&nbsp\;&nbsp\;&nbsp\;&nbsp\;&nbsp\;&nbsp\;&nbsp\;&nbsp\;&nbsp\;&nbsp\;&nbsp\;&nbsp\;&nbsp\;&nbsp\;&nbsp\;&nbsp\;&nbsp\;&nbsp\;&nbsp\;&nbsp\;&nbsp\;&nbsp\;&nbsp\;&nbsp\;&nbsp\;&nbsp\;&nbsp\;&nbsp\;&nbsp\;&nbsp\;&nbsp\;&nbsp\;&nbsp\;&nbsp\;&nbsp\;&nbsp\;&nbsp\;&nbsp\;&nbsp\;&nbsp\;&nbsp\;&nbsp\;&nbsp\;&nbsp\;&nbsp\;&nbsp\;&nbsp\;&nbsp\;&nbsp\;&nbsp\;&nbsp\;&nbsp\; Quality Service is about:</div><ul><li>Professionalism&nbsp\;&nbsp\;&nbsp\; &nbsp\;&nbsp\;&nbsp\;&nbsp\;&nbsp\;&nbsp\;&nbsp\;&nbsp\;&nbsp\;&nbsp\;&nbsp\;&nbsp\;&nbsp\;&nbsp\;&nbsp\;&nbsp\;&nbsp\;&nbsp\;&nbsp\;&nbsp\;</li><li>Cultural Sensitivity</li><li>Problem Solving</li><li>Communication</li><li>Wedding and Special Event Specific Issues</li><li>Business Etiquett</li><li>Knowing About Your Community</li></ul><div>We invite you to join us for a three-part series of training that will enhance your business and help us all promote Rockingham County&rsquo\;s hospitality!</div><div>&nbsp\;</div><ul><li>January 25\,&nbsp\;2010-Customer Service for the 21st Century</li><li>February 15\,\, 2010- Dealing with Wedding and Special Event Issues</li><li>March 15\, 2010- Know Your Community: Sharing Resources and Partnering</li></ul><div>&nbsp\;</div>
LOCATION:All training will be held at Chinqua Penn .
UID:e.111.1230
SEQUENCE:3
DTSTAMP:20260424T151624Z
URL:https://business.reidsvillechamber.org/events/details/north-carolina-hospitality-training-3rd-session-03-15-2010-1230
END:VEVENT

END:VCALENDAR
