BEGIN:VCALENDAR
VERSION:2.0
PRODID:-//ChamberMaster//Event Calendar 2.0//EN
METHOD:PUBLISH
X-PUBLISHED-TTL:P3D
REFRESH-INTERVAL:P3D
CALSCALE:GREGORIAN
BEGIN:VEVENT
DTSTART:20111110T163000Z
DTEND:20111110T173000Z
X-MICROSOFT-CDO-ALLDAYEVENT:FALSE
SUMMARY:November 10 - Ribbon Cutting MetLife/Ronnie Cardwell
DESCRIPTION:Ribbon Cutting MetLife/Ronnie Cardwell
X-ALT-DESC;FMTTYPE=text/html:<span style="font-size: medium"><span style="font-family: times new roman">&nbsp\; Ribbon Cutting MetLife/Ronnie Cardwell</span></span><br />\n
LOCATION:232 Gilmer Street\, Suite 103
UID:e.111.2057
SEQUENCE:3
DTSTAMP:20260421T193238Z
URL:https://business.reidsvillechamber.org/events/details/november-10-ribbon-cutting-metlife-ronnie-cardwell-11-10-2011-2057
END:VEVENT

END:VCALENDAR
