BEGIN:VCALENDAR
VERSION:2.0
PRODID:-//ChamberMaster//Event Calendar 2.0//EN
METHOD:PUBLISH
X-PUBLISHED-TTL:P3D
REFRESH-INTERVAL:P3D
CALSCALE:GREGORIAN
BEGIN:VEVENT
DTSTART:20120327T160000Z
DTEND:20120327T180000Z
X-MICROSOFT-CDO-ALLDAYEVENT:FALSE
SUMMARY:Nurse-Family Partnership Informational Luncheon
DESCRIPTION:The Rockingham County Partnership for Children invites you to\n\n	join us for lunch and an opportunity to learn more about\n\n	\n\n	Nurse-Family Partnership\n\n	Helping First-Time Parents Succeed\n\n	\n\n	Nurse-Family Partnership is an evidence-based community health program that helps transform the lives of vulnerable mothers pregnant with their first child. Each mother served is partnered with a registered nurse early in her pregnancy and receives ongoing nurse home visits that continue through her child's second birthday. Independent research proves that communities benefit from this relationship-every dollar invested in Nurse-Family Partnership can yield more than five dollars in return.\n\n	\n\n	\n\n	Informational Luncheon and Kick-off Planning Meeting\n\n	Tuesday\, March 27\, 2012\n\n	12pm-2pm\n\n	Rockingham Co. Cooperative Extension-Large Meeting Room\n\n	\n\n	Chris Bishop\, Eastern Region Program Developer with the Nurse-Family Partnership\, will join us to provide an overview of the program. Working in partnership with the Rockingham County Healthcare Alliance and the Nurse-Family Partnership National Service Office\, it is our hope to bring this exciting effective program to Rockingham County.  \n\n	\n\n	For planning purposes please RSVP to Amber Williamson at (336)-342-9676 or amberw@rockinghamkids.org
X-ALT-DESC;FMTTYPE=text/html:<p style="text-align: center">\n	The Rockingham County Partnership for Children invites you to<br />\n	join us for lunch and an opportunity to learn more about<br />\n	<br />\n	<strong><span style="font-size: 16px">Nurse-Family Partnership</span></strong><br />\n	<span style="font-size: 16px"><span style="font-size: 14px">Helping First-Time Parents Succeed<br />\n	<br />\n	<span style="font-size: 12px">Nurse-Family Partnership is an evidence-based community health program that helps transform the lives of vulnerable mothers pregnant with their first child. Each mother served is partnered with a registered nurse early in her pregnancy and receives ongoing nurse home visits that continue through her child&#39\;s second birthday. Independent&nbsp\;research proves that communities benefit from this relationship-every dollar invested in Nurse-Family Partnership can yield more than five dollars in return.<br />\n	<br />\n	<br />\n	<span style="font-size: 16px">Informational Luncheon and Kick-off Planning Meeting<br />\n	Tuesday\, March 27\, 2012<br />\n	12pm-2pm<br />\n	Rockingham Co. Cooperative Extension-Large Meeting Room</span><br />\n	<br />\n	Chris Bishop\, Eastern Region Program Developer with the Nurse-Family Partnership\, will join us to provide an overview of the program. Working in partnership with the Rockingham County Healthcare Alliance and the Nurse-Family Partnership National Service Office\, it is our hope to bring this exciting effective program to Rockingham County.&nbsp\;&nbsp\;<br />\n	<br />\n	For planning purposes please RSVP to Amber Williamson at (336)-342-9676 or <a href="mailto:amberw@rockinghamkids.org">amberw@rockinghamkids.org</a></span></span></span></p>\n
LOCATION:Rockingham Co. Cooperative Extension-Large Meeting Room
UID:e.111.2170
SEQUENCE:3
DTSTAMP:20260421T144240Z
URL:https://business.reidsvillechamber.org/events/details/nurse-family-partnership-informational-luncheon-03-27-2012-2170
END:VEVENT

END:VCALENDAR
