BEGIN:VCALENDAR
VERSION:2.0
PRODID:-//ChamberMaster//Event Calendar 2.0//EN
METHOD:PUBLISH
X-PUBLISHED-TTL:P3D
REFRESH-INTERVAL:P3D
CALSCALE:GREGORIAN
BEGIN:VEVENT
DTSTART;VALUE=DATE:20100821
DTEND;VALUE=DATE:20100822
TRANSP:TRANSPARENT
X-MICROSOFT-CDO-ALLDAYEVENT:TRUE
SUMMARY:One-Year Anniversary of Market Square
DESCRIPTION:Motown music by the bands Peace and  Love\, and The Phase Band.  For more information call 349-1099.
X-ALT-DESC;FMTTYPE=text/html:<div>Motown music by the bands Peace and&nbsp\; Love\, and The Phase Band.&nbsp\; For more information call 349-1099.</div>
LOCATION:
UID:e.111.1380
SEQUENCE:3
DTSTAMP:20260424T065748Z
URL:https://business.reidsvillechamber.org/events/details/one-year-anniversary-of-market-square-08-21-2010-1380
END:VEVENT

END:VCALENDAR
