BEGIN:VCALENDAR
VERSION:2.0
PRODID:-//ChamberMaster//Event Calendar 2.0//EN
METHOD:PUBLISH
X-PUBLISHED-TTL:P3D
REFRESH-INTERVAL:P3D
CALSCALE:GREGORIAN
BEGIN:VEVENT
DTSTART:20111215T190000Z
DTEND:20111215T220000Z
X-MICROSOFT-CDO-ALLDAYEVENT:FALSE
SUMMARY:Open House at Rockingham Partnership for Children
DESCRIPTION:Click Here for Invitation
X-ALT-DESC;FMTTYPE=text/html:<a href="http://cloud.chambermaster.com/userfiles/UserFiles/chambers/111/File/2011OpenHouseInvite2.pdf">Click Here for Invitation</a>
LOCATION:7572 NC HWY 87
UID:e.111.2102
SEQUENCE:3
DTSTAMP:20260421T175230Z
URL:https://business.reidsvillechamber.org/events/details/open-house-at-rockingham-partnership-for-children-12-15-2011-2102
END:VEVENT

END:VCALENDAR
