BEGIN:VCALENDAR
VERSION:2.0
PRODID:-//ChamberMaster//Event Calendar 2.0//EN
METHOD:PUBLISH
X-PUBLISHED-TTL:P3D
REFRESH-INTERVAL:P3D
CALSCALE:GREGORIAN
BEGIN:VEVENT
DTSTART;VALUE=DATE:20091119
DTEND;VALUE=DATE:20091120
TRANSP:TRANSPARENT
X-MICROSOFT-CDO-ALLDAYEVENT:TRUE
SUMMARY:Open House-Belmont Pharmacy
DESCRIPTION:Open House \n15% off gift items\, includes tasting from our stock of mixes for cheese balls & dips\, and Door Prizes
X-ALT-DESC;FMTTYPE=text/html:Open House \n15% off gift items\, includes tasting from our stock of mixes for cheese balls & dips\, and Door Prizes
LOCATION:Belmont Pharmacy\, 105 Professional Drive
UID:e.111.1263
SEQUENCE:3
DTSTAMP:20260424T220511Z
URL:https://business.reidsvillechamber.org/events/details/open-house-belmont-pharmacy-11-19-2009-1263
END:VEVENT

END:VCALENDAR
