BEGIN:VCALENDAR
VERSION:2.0
PRODID:-//ChamberMaster//Event Calendar 2.0//EN
METHOD:PUBLISH
X-PUBLISHED-TTL:P3D
REFRESH-INTERVAL:P3D
CALSCALE:GREGORIAN
BEGIN:VEVENT
DTSTART:20100422T123000Z
DTEND:20100422T133000Z
X-MICROSOFT-CDO-ALLDAYEVENT:FALSE
SUMMARY:Partnership for Children breakfast gathering
DESCRIPTION:The Rockingham County Partnership for Children and  the Reidsville Chamber of CommercepresentsBill Millett of Scope View Strategic AdvantageQuality Early Education:  A Competitve Necessity in a Global Economy Whitcomb Student Center at RCCThursday\, April 22nd8:30 a.m.RSVP to 342-9676
X-ALT-DESC;FMTTYPE=text/html:<div style="text-align: center"><span style="font-size: medium">The Rockingham County Partnership for Children and &nbsp\;the Reidsville Chamber of Commerce</span><span style="font-size: medium">presents</span></div><div style="text-align: center"><span style="font-size: medium">Bill Millett of Scope View Strategic Advantage</span></div><div style="text-align: center"><em><span style="font-size: medium">Quality Early Education:&nbsp\; A Competitve Necessity in a Global Economy</span></em></div><div style="text-align: center">&nbsp\;</div><div style="text-align: center"><span style="font-size: medium">Whitcomb Student Center at RCC</span></div><div style="text-align: center"><span style="font-size: medium">Thursday\, April 22nd</span></div><div style="text-align: center"><span style="font-size: medium">8:30 a.m.</span></div><div style="text-align: center"><span style="font-size: medium">RSVP to 342-9676</span></div><div style="text-align: center">&nbsp\;</div>
LOCATION:
UID:e.111.1348
SEQUENCE:3
DTSTAMP:20260424T132219Z
URL:https://business.reidsvillechamber.org/events/details/partnership-for-children-breakfast-gathering-04-22-2010-1348
END:VEVENT

END:VCALENDAR
