BEGIN:VCALENDAR
VERSION:2.0
PRODID:-//ChamberMaster//Event Calendar 2.0//EN
METHOD:PUBLISH
X-PUBLISHED-TTL:P3D
REFRESH-INTERVAL:P3D
CALSCALE:GREGORIAN
BEGIN:VEVENT
DTSTART:20110219T180000Z
DTEND:20110219T210000Z
X-MICROSOFT-CDO-ALLDAYEVENT:FALSE
SUMMARY:Party Plus by Grand Rental -- 1st Annual Wedding Fair
DESCRIPTION:Party Plus by Grand Rental\n\n	Riverhouse Gift & Gourmet\n\n	Eden's Own Journal\n\n	\n\n	cordially invites you to attend the\n\n	1st Annual\n\n	Wedding Fair\n\n	\n\n	Saturday\, February 19\, 2011\n\n	1:00 pm 4:00 pm\n\n	\n\n	Click here for more details!\n\n	\n\n	 Party Plus/Riverhouse location\n\n	(Former Grogan's building)\n\n	349 W. Kings Hwy.\n\n	Eden\, NC
X-ALT-DESC;FMTTYPE=text/html:<p style="text-align: center\;">\n	<br />\n	<span style="color: rgb(128\, 0\, 128)\;"><span style="font-family: comic sans ms\;"><span style="font-size: 20px\;">Party Plus by Grand Rental<br />\n	Riverhouse Gift &amp\; Gourmet<br />\n	Eden&rsquo\;s Own Journal</span><br />\n	<br />\n	cordially invites you to attend the<br />\n	<span style="font-size: 14px\;"><strong>1st Annual<br />\n	Wedding Fair</strong></span><br />\n	<br />\n	<span style="font-size: 16px\;">Saturday\, February 19\, 2011<br />\n	1:00 pm&mdash\;4:00 pm</span></span></span><br />\n	<br />\n	<span style="color: rgb(128\, 0\, 128)\;"><span style="font-family: comic sans ms\;"><span style="font-size: 22px\;"><a href="http://cloud.chambermaster.com/userfiles/UserFiles/chambers/111/File/Party%20Plus%20--%20brides%20invitation.pdf">Click here for more details!</a></span></span></span><br />\n	<br />\n	<span style="color: rgb(128\, 0\, 128)\;"><span style="font-family: comic sans ms\;"> Party Plus/Riverhouse location<br />\n	(Former Grogan&rsquo\;s building)<br />\n	349 W. Kings Hwy.<br />\n	Eden\, NC<br />\n	</span></span></p>\n
LOCATION:
UID:e.111.1596
SEQUENCE:3
DTSTAMP:20260423T213147Z
URL:https://business.reidsvillechamber.org/events/details/party-plus-by-grand-rental-1st-annual-wedding-fair-02-19-2011-1596
END:VEVENT

END:VCALENDAR
