BEGIN:VCALENDAR
VERSION:2.0
PRODID:-//ChamberMaster//Event Calendar 2.0//EN
METHOD:PUBLISH
X-PUBLISHED-TTL:P3D
REFRESH-INTERVAL:P3D
CALSCALE:GREGORIAN
BEGIN:VEVENT
DTSTART:20111209T190000Z
DTEND:20111209T210000Z
X-MICROSOFT-CDO-ALLDAYEVENT:FALSE
SUMMARY:Penn Nursing Center Family Holiday Celebration
DESCRIPTION:Families and friends of Penn Nursing Center residents are invited to attend the facilities holiday celebration on Friday\, December 9\, at 2:00 pm in the PNC Dining Room. The event will feature holiday entertainment\, caroling and refreshments. Please call Juliette Miller\, Activities Director\, at 951-6021 to RSVP.
X-ALT-DESC;FMTTYPE=text/html:<span style="font-size: 10pt\; font-family: calibri\; mso-fareast-font-family: 'times new roman'\; mso-bidi-font-family: 'times new roman'\; mso-ansi-language: en-us\; mso-fareast-language: en-us\; mso-bidi-language: ar-sa"><font color="#000000" face="Times New Roman">Families and friends of Penn Nursing Center residents are invited to attend the facilities holiday celebration on <b style="mso-bidi-font-weight: normal">Friday\, December 9\,</b> at 2:00 pm in the PNC Dining Room. The event will feature holiday entertainment\, caroling and refreshments. Please call Juliette Miller\, Activities Director\, at 951-6021 to RSVP. </font></span>
LOCATION:Annie Penn Hospital
UID:e.111.2076
SEQUENCE:3
DTSTAMP:20260421T175349Z
URL:https://business.reidsvillechamber.org/events/details/penn-nursing-center-family-holiday-celebration-12-09-2011-2076
END:VEVENT

END:VCALENDAR
