BEGIN:VCALENDAR
VERSION:2.0
PRODID:-//ChamberMaster//Event Calendar 2.0//EN
METHOD:PUBLISH
X-PUBLISHED-TTL:P3D
REFRESH-INTERVAL:P3D
CALSCALE:GREGORIAN
BEGIN:VEVENT
DTSTART:20111211T190000Z
DTEND:20111211T210000Z
X-MICROSOFT-CDO-ALLDAYEVENT:FALSE
SUMMARY:Penn Nursing Center Performance
DESCRIPTION:Piano students of Teresa Pierce will be performing a holiday concert for residents\, families and friends at in the Dining Room of the Penn Nursing Center on Sunday\, December 11\, at 2:00 p.m. The public is invited to attend.
X-ALT-DESC;FMTTYPE=text/html:<span style="font-size: 10pt\; font-family: calibri\; mso-fareast-font-family: 'times new roman'\; mso-bidi-font-family: 'times new roman'\; mso-ansi-language: en-us\; mso-fareast-language: en-us\; mso-bidi-language: ar-sa"><font color="#000000" face="Times New Roman">Piano students of Teresa Pierce will be performing a holiday concert for residents\, families and friends at in the Dining Room of the Penn Nursing Center on <strong>Sunday\, December 11\, </strong>at <strong>2:00 p.m</strong>. The public is invited to attend. </font></span>
LOCATION:Annie Penn Hospital
UID:e.111.2077
SEQUENCE:3
DTSTAMP:20260421T174902Z
URL:https://business.reidsvillechamber.org/events/details/penn-nursing-center-performance-12-11-2011-2077
END:VEVENT

END:VCALENDAR
