BEGIN:VCALENDAR
VERSION:2.0
PRODID:-//ChamberMaster//Event Calendar 2.0//EN
METHOD:PUBLISH
X-PUBLISHED-TTL:P3D
REFRESH-INTERVAL:P3D
CALSCALE:GREGORIAN
BEGIN:VEVENT
DTSTART:20101203T223000Z
DTEND:20101204T000000Z
X-MICROSOFT-CDO-ALLDAYEVENT:FALSE
SUMMARY:Performance Art Night
DESCRIPTION:Performance Art Night featuring Lisabeth Carter including monologs\, poetry and singing.
X-ALT-DESC;FMTTYPE=text/html:Performance Art Night featuring Lisabeth Carter including monologs\, poetry and singing.
LOCATION:WayCup Coffee
UID:e.111.1557
SEQUENCE:3
DTSTAMP:20260424T004156Z
URL:https://business.reidsvillechamber.org/events/details/performance-art-night-12-03-2010-1557
END:VEVENT

END:VCALENDAR
