BEGIN:VCALENDAR
VERSION:2.0
PRODID:-//ChamberMaster//Event Calendar 2.0//EN
METHOD:PUBLISH
X-PUBLISHED-TTL:P3D
REFRESH-INTERVAL:P3D
CALSCALE:GREGORIAN
BEGIN:VEVENT
DTSTART;VALUE=DATE:20110824
DTEND;VALUE=DATE:20110825
TRANSP:TRANSPARENT
X-MICROSOFT-CDO-ALLDAYEVENT:TRUE
SUMMARY:Performance Spine Sports Specialists\, PA
DESCRIPTION:Dr. Bethea offers conservative non- surgical treatment in a compassionate supportive enviroment. Take that first step. Call today and learn how you can live pain-free again!\n\n	\n\n	- Arthriritic joint pain\n\n	- Bursitis\n\n	-Cancer- related pain\n\n	- Disc bulges & herniations\n\n	- Pinched nerves\n\n	- Tendonitis\n\n	- Trigger point pain\n\n	- Vertebral bone fractures
X-ALT-DESC;FMTTYPE=text/html:<p>\n	Dr. Bethea offers conservative non- surgical treatment in a compassionate supportive enviroment. Take that first step. Call today and learn how you can live pain-free again!<br />\n	<br />\n	- Arthriritic joint pain<br />\n	- Bursitis<br />\n	-Cancer- related pain<br />\n	- Disc bulges &amp\; herniations<br />\n	- Pinched nerves<br />\n	- Tendonitis<br />\n	- Trigger point pain<br />\n	- Vertebral bone fractures<br />\n	&nbsp\;</p>\n
LOCATION:520 Maple Street\, Suite A\, Reidsville NC
UID:e.111.1969
SEQUENCE:3
DTSTAMP:20260423T121629Z
URL:https://business.reidsvillechamber.org/events/details/performance-spine-sports-specialists-pa-08-24-2011-1969
END:VEVENT

END:VCALENDAR
