BEGIN:VCALENDAR
VERSION:2.0
PRODID:-//ChamberMaster//Event Calendar 2.0//EN
METHOD:PUBLISH
X-PUBLISHED-TTL:P3D
REFRESH-INTERVAL:P3D
CALSCALE:GREGORIAN
BEGIN:VEVENT
DTSTART;VALUE=DATE:20101016
DTEND;VALUE=DATE:20101017
TRANSP:TRANSPARENT
X-MICROSOFT-CDO-ALLDAYEVENT:TRUE
SUMMARY:Pigs & Pumpkins at Oakhaven
DESCRIPTION:103.3 WAKG presents\n\n	Pigs & Pumpkins\n\n	benefiting Victory Junction\n\n	\n\n	Saturday\, October 16th\n\n	at Oakhaven\n\n	\n\n	For more information\, visit:  http://www.comegetlost.com/PigsandPumpkins.html\n\n\nMake plans to be here on October 16th for Pigs & Pumpkins Day brought to you by our friends at 103.3 WAKG.  This will be a day full of fun featuring an amatuer Backyard BBQ Cookoff with over $1000 in prize money.  There will be several contests including "Best Okie-Dokie Look-A-Like"\, Pumpkin Carving\, and greased pumpkin catching. BBQ will be available by multi-award winning BBQ champ\, Bill Eason\, one of the best whole hog cookers in the country!  There will be crafts\, fantastic prizes\, live music by several bands all day including Runaway City\,  Dane Corum\, and Katelyn Marks  This is a day you will not want to miss and there will be something for everyone to enjoy!
X-ALT-DESC;FMTTYPE=text/html:<p style="text-align: center\;">\n	<span style="font-size: 14px\;">103.3 WAKG presents</span><br />\n	<span style="color: rgb(255\, 140\, 0)\;"><span style="font-size: 20px\;">Pigs &amp\; Pumpkins</span></span><br />\n	<span style="font-size: 14px\;"><em>benefiting Victory Junction</em></span><br />\n	<br />\n	<strong><span style="font-size: 14px\;">Saturday\, October 16th</span></strong><br />\n	<span style="color: rgb(0\, 0\, 255)\;"><span style="font-size: 20px\;">at Oakhaven</span></span><br />\n	<br />\n	<span style="font-size: 12px\;">For more information\, visit:&nbsp\; </span><strong>http://www.comegetlost.com/PigsandPumpkins.html</strong></p>\n<br />\nMake plans to be here on October 16th for Pigs &amp\; Pumpkins Day brought to you by our friends at <a href="http://www.wakg.com/" target="_blank"><span style="text-decoration: none\;">103.3 WAKG</span></a>.&nbsp\; This will be a day full of fun featuring an amatuer Backyard BBQ Cookoff with over $1000 in prize money.&nbsp\; There will be several contests including &quot\;Best Okie-Dokie Look-A-Like&quot\;\, Pumpkin Carving\, and greased pumpkin catching. BBQ will be available by multi-award winning BBQ champ\, <a href="http://www.comegetlost.com/BillEasonBio.html" target="_self"><span style="text-decoration: none\;">Bill Eason</span></a>\, one of the best whole hog cookers in the country!&nbsp\; There will be crafts\, fantastic prizes\, live music by several bands all day including <a href="http://www.comegetlost.com/RunawayCityBio.html" target="_self"><span style="text-decoration: none\;">Runaway City</span></a>\,&nbsp\; <a href="http://www.comegetlost.com/DaneCorumBio.html" target="_self"><span style="text-decoration: none\;">Dane Corum</span></a>\, and <a href="http://www.comegetlost.com/KatelynMarksBIO.html" target="_self"><span style="text-decoration: none\;">Katelyn Marks</span></a>&nbsp\; This is a day you will not want to miss and there will be something for everyone to enjoy!
LOCATION:
UID:e.111.1525
SEQUENCE:3
DTSTAMP:20260424T053201Z
URL:https://business.reidsvillechamber.org/events/details/pigs-pumpkins-at-oakhaven-10-16-2010-1525
END:VEVENT

END:VCALENDAR
